BEGIN:VCALENDAR
VERSION:2.0
PRODID:-//PM &amp; Vänner - ECPv6.3.6//NONSGML v1.0//EN
CALSCALE:GREGORIAN
METHOD:PUBLISH
X-WR-CALNAME:PM &amp; Vänner
X-ORIGINAL-URL:https://pmrestauranger.se
X-WR-CALDESC:Händelser för PM &amp; Vänner
REFRESH-INTERVAL;VALUE=DURATION:PT1H
X-Robots-Tag:noindex
X-PUBLISHED-TTL:PT1H
BEGIN:VTIMEZONE
TZID:Europe/Stockholm
BEGIN:DAYLIGHT
TZOFFSETFROM:+0100
TZOFFSETTO:+0200
TZNAME:CEST
DTSTART:20250330T010000
END:DAYLIGHT
BEGIN:STANDARD
TZOFFSETFROM:+0200
TZOFFSETTO:+0100
TZNAME:CET
DTSTART:20251026T010000
END:STANDARD
END:VTIMEZONE
BEGIN:VEVENT
DTSTART;TZID=Europe/Stockholm:20250919T180000
DTEND;TZID=Europe/Stockholm:20250920T210000
DTSTAMP:20260419T152345
CREATED:20250524T094257Z
LAST-MODIFIED:20250628T075650Z
UID:10003238-1758304800-1758402000@pmrestauranger.se
SUMMARY:Gästspel med Erik Videgård
DESCRIPTION:Kroglegenden Erik Videgård är tillbaka på allmän begäran! När Erik besökte oss senast var det stor rusning till bokningarna och dessvärre fick inte riktigt alla plats den gången. Vi är därför otroligt glada att återigen välkomna Erik Videgård till PM & Vänner! \nEn mästare i köket men också en av Sveriges första deltagare i VM för sommelierer samt en krögare bakom flera banbrytande och mytomspunna restauranger. Han är en förebild som har charmat hela Sverige genom Nyhetsmorgon med sina vassa tips inom matlagning. Med en imponerande lista av restauranger han skapat som Videgård\, East\, Diana\, Akvarium\, Fjäderholmarnas Krog samt Halv trappa plus gård\, har Erik skapat prisbelönta smakäventyr i över tre decennier.  \nNu är det er och vår tur att följa med på en asiatisk smakresa där Erik tillsammans med våra kockar kommer skapa en meny i fem serveringar från det asiatiska kökets alla hörn. Vi vågar utlova en unik gastronomisk upplevelse med Erik Videgårds nya meny\, ackompanjerad med dryckespaket. \nMiddagen serveras vid gemensamma bord i vår privata festvåning med start klockan 18.00. \nPaket 1 – Går endast att boka via vår reception\n– Erik Videgårds signaturmeny med tillhörande dryckespaket\n– Del i dubbelrum\, kategori Classic\n– Trådlöst Wi-Fi\n– Tillgång till gym\, pooler och bastu\n– Vår prisbelönta frukost serverad på PM Bar \nPris: 2 695 kr per person \nFör att komma i kontakt med vår reception\, maila till\nreservations@pmhotel.se eller ring 0470-75 97 00 \n__________________________________ \nPaket 2 – Går endast att boka online på länken nedan\n– Erik Videgårds signaturmeny med tillhörande dryckespaket \nPris: 1 695 kr per person \nBokning av paket 2 (fredag) sker via genom att klicka här \nBokning av paket 2 sker via genom att klicka här \n\nVänligen notera vi ej kan tillgodose önskemål om vegansk eller mjölkproteinfri meny\noch att det är ert ansvar som gäst att meddela oss eventuella allergier eller kostpreferenser.\nAnmälan om specialkost måste vara oss tillhanda via reservations@pmhotel.se\nsenast 48 timmar innan ankomst för att vi ska kunna garantera ert önskemål. \nVi tar full betalning vid bokning. Avbokningar senare än 7 dagar innan ankomst debiteras med fullt pris.\nAvbokningar tidigare debiteras med 10 % av bokningens totala värde. \nVarmt välkomna till en oförglömlig upplevelse på PM & Vänner Hotel!
URL:https://pmrestauranger.se/event/gastspel-med-erik-videgard/
LOCATION:PM & Vänner\, Västergatan 10\, Växjö\, 352 31\, Sverige
ATTACH;FMTTYPE=image/jpeg:https://pmrestauranger.se/wp-content/uploads/2025/05/gastspel_erik_videgard_evenemangskalender.jpg
END:VEVENT
BEGIN:VEVENT
DTSTART;TZID=Europe/Stockholm:20250925T171500
DTEND;TZID=Europe/Stockholm:20250925T190000
DTSTAMP:20260419T152345
CREATED:20250830T085948Z
LAST-MODIFIED:20250906T053549Z
UID:10003243-1758820500-1758826800@pmrestauranger.se
SUMMARY:Föreläsning med Folke Rydén
DESCRIPTION:Den 25 september gästas PM & Vänner av journalisten Folke Rydén som kommer föreläsa i samband med Växjödeklaratioen.\nMed sina många års erfarenhet som journalist och dokumentärfilmare berättar Folke om sitt liv och betydelsefulla händelser.\n\nFörelsäningen är en del av Växjödeklaratrionen – Tillsammans för en hållbar utveckling.\n\nBokas här.\n\nVi erbjuder även 20% rabatt på hotellrum i samband med föreläsningen.\nVänligen kontakta hotellreceptionen för bokning på 0470- 75 97 00 eller reservations@pmhotel.se\nUppge ”FOLKERYDEN”
URL:https://pmrestauranger.se/event/forelasning-med-folke-ryden/
LOCATION:PM & Vänner\, Västergatan 10\, Växjö\, 352 31\, Sverige
ATTACH;FMTTYPE=image/jpeg:https://pmrestauranger.se/wp-content/uploads/2025/08/slider_folke_ryden_med_logo_och_pris.jpg
END:VEVENT
BEGIN:VEVENT
DTSTART;TZID=Europe/Stockholm:20250926T160000
DTEND;TZID=Europe/Stockholm:20250926T190000
DTSTAMP:20260419T152345
CREATED:20250917T060041Z
LAST-MODIFIED:20250917T060041Z
UID:10003500-1758902400-1758913200@pmrestauranger.se
SUMMARY:Hela Huset Skakar - Oktoberfest!
DESCRIPTION:Favoriten från förra året är tillbaka; PM & Vänners egna take på den klassiska Oktoberfesten! \nDet blir STORA öl\, joddling och lederhosen för hela slanten. På Bröd & Sovel serverar vi surdegspizza med smak av både Småland och Bayern. Avnjuts allra bäst på plats men är även god att plocka med sig hem. Beställningar sker på telefon 0470-75 97 30. \nVarmt välkomna!
URL:https://pmrestauranger.se/event/hela-huset-skakar-oktoberfest/
LOCATION:PM & Vänner\, Västergatan 10\, Växjö\, 352 31\, Sverige
ATTACH;FMTTYPE=image/jpeg:https://pmrestauranger.se/wp-content/uploads/2025/09/oktoberfest_2025_webb-slider_hela_huset_skakar.jpg
END:VEVENT
END:VCALENDAR