BEGIN:VCALENDAR
VERSION:2.0
PRODID:-//PM &amp; Vänner - ECPv6.3.6//NONSGML v1.0//EN
CALSCALE:GREGORIAN
METHOD:PUBLISH
X-WR-CALNAME:PM &amp; Vänner
X-ORIGINAL-URL:https://pmrestauranger.se
X-WR-CALDESC:Händelser för PM &amp; Vänner
REFRESH-INTERVAL;VALUE=DURATION:PT1H
X-Robots-Tag:noindex
X-PUBLISHED-TTL:PT1H
BEGIN:VTIMEZONE
TZID:Europe/Stockholm
BEGIN:DAYLIGHT
TZOFFSETFROM:+0100
TZOFFSETTO:+0200
TZNAME:CEST
DTSTART:20240331T010000
END:DAYLIGHT
BEGIN:STANDARD
TZOFFSETFROM:+0200
TZOFFSETTO:+0100
TZNAME:CET
DTSTART:20241027T010000
END:STANDARD
END:VTIMEZONE
BEGIN:VEVENT
DTSTART;TZID=Europe/Stockholm:20241004T150000
DTEND;TZID=Europe/Stockholm:20241004T170000
DTSTAMP:20260419T182623
CREATED:20240416T112506Z
LAST-MODIFIED:20240428T114920Z
UID:10000834-1728054000-1728061200@pmrestauranger.se
SUMMARY:Ostron & Champagne
DESCRIPTION:Varje fredag mellan 15:00 och 17:00 erbjuder vi ostron för endast 25 kr/st och champagne för 119 kr/glas så långt lagret räcker. Självklart har vi också utmärkta alkoholfria alternativ för den som önskar. \nVälkomna att starta helgen på bästa sätt!
URL:https://pmrestauranger.se/event/ostron-champagne/2024-10-04/
ATTACH;FMTTYPE=image/jpeg:https://pmrestauranger.se/wp-content/uploads/2024/04/aw_slider.jpg
END:VEVENT
BEGIN:VEVENT
DTSTART;TZID=Europe/Stockholm:20241005T130000
DTEND;TZID=Europe/Stockholm:20241005T170000
DTSTAMP:20260419T182623
CREATED:20240531T045300Z
LAST-MODIFIED:20250203T201922Z
UID:10001354-1728133200-1728147600@pmrestauranger.se
SUMMARY:Afternoon Tea
DESCRIPTION:Upplev PM & Vänner Atrium och förgyll din lördag med härliga godsaker från vårt hus\n\nPM & Vänner Atrium är en underbar mötesplats i hjärtat av hotellet med FLORA\, hotellreceptionen och vår bistro som närmsta grannar. Här serverar vi Afternoon Tea varje lördag med två fasta sittningstider\, 13.00 och 15.00. Ta en paus från shoppingen på stan eller passa på att skämma bort någon du håller kär.\n\n\n\nVäl på plats kan ni avnjuta smörrebröd\, kringlor med marmelad\, wienerbröd\, pain au chocolate\, praliner\, ostkaka och mycket mer. Till detta serverar vi ett väl utvalt sortiment av te och önskar man champagne finns även det att beställa. \nPris:\n345 kr (445 kr med ett glas champagne)\n175 kr för barn under 12 år \nBOKA DITT BORD HÄR \nVarmt välkomna!
URL:https://pmrestauranger.se/event/afternoon-tea/2024-10-05/
LOCATION:PM & Vänner\, Västergatan 10\, Växjö\, 352 31\, Sverige
ATTACH;FMTTYPE=image/jpeg:https://pmrestauranger.se/wp-content/uploads/2024/05/afternoon_tea_evenemangskalender.jpg
END:VEVENT
BEGIN:VEVENT
DTSTART;TZID=Europe/Stockholm:20241011T150000
DTEND;TZID=Europe/Stockholm:20241011T170000
DTSTAMP:20260419T182623
CREATED:20240416T112506Z
LAST-MODIFIED:20240428T114920Z
UID:10000835-1728658800-1728666000@pmrestauranger.se
SUMMARY:Ostron & Champagne
DESCRIPTION:Varje fredag mellan 15:00 och 17:00 erbjuder vi ostron för endast 25 kr/st och champagne för 119 kr/glas så långt lagret räcker. Självklart har vi också utmärkta alkoholfria alternativ för den som önskar. \nVälkomna att starta helgen på bästa sätt!
URL:https://pmrestauranger.se/event/ostron-champagne/2024-10-11/
ATTACH;FMTTYPE=image/jpeg:https://pmrestauranger.se/wp-content/uploads/2024/04/aw_slider.jpg
END:VEVENT
BEGIN:VEVENT
DTSTART;TZID=Europe/Stockholm:20241012T130000
DTEND;TZID=Europe/Stockholm:20241012T170000
DTSTAMP:20260419T182623
CREATED:20240531T045300Z
LAST-MODIFIED:20250203T201922Z
UID:10001355-1728738000-1728752400@pmrestauranger.se
SUMMARY:Afternoon Tea
DESCRIPTION:Upplev PM & Vänner Atrium och förgyll din lördag med härliga godsaker från vårt hus\n\nPM & Vänner Atrium är en underbar mötesplats i hjärtat av hotellet med FLORA\, hotellreceptionen och vår bistro som närmsta grannar. Här serverar vi Afternoon Tea varje lördag med två fasta sittningstider\, 13.00 och 15.00. Ta en paus från shoppingen på stan eller passa på att skämma bort någon du håller kär.\n\n\n\nVäl på plats kan ni avnjuta smörrebröd\, kringlor med marmelad\, wienerbröd\, pain au chocolate\, praliner\, ostkaka och mycket mer. Till detta serverar vi ett väl utvalt sortiment av te och önskar man champagne finns även det att beställa. \nPris:\n345 kr (445 kr med ett glas champagne)\n175 kr för barn under 12 år \nBOKA DITT BORD HÄR \nVarmt välkomna!
URL:https://pmrestauranger.se/event/afternoon-tea/2024-10-12/
LOCATION:PM & Vänner\, Västergatan 10\, Växjö\, 352 31\, Sverige
ATTACH;FMTTYPE=image/jpeg:https://pmrestauranger.se/wp-content/uploads/2024/05/afternoon_tea_evenemangskalender.jpg
END:VEVENT
BEGIN:VEVENT
DTSTART;TZID=Europe/Stockholm:20241012T180000
DTEND;TZID=Europe/Stockholm:20241012T210000
DTSTAMP:20260419T182623
CREATED:20240826T124159Z
LAST-MODIFIED:20240826T124159Z
UID:10001604-1728756000-1728766800@pmrestauranger.se
SUMMARY:Unikt indiskt gästspel med Malin Mendel
DESCRIPTION:PM & Vänner presenterar stolt unikt indiskt gästspel med Malin Mendel!\n\n\n\n\nMalin Mendel är aktuell med sin femte indiska kokbok Currymamman. Till vardags är Malin korrespondent i Indien för SVT\, där hon nyligen varit programledare för serien Curry med korre. Tillsammans med komikern David Batra har Malin även gjort serien Världens sämsta indier\, som hon tilldelats Stora Journalistpriset för. \nKvällen börjra med en fördrink och papadams och fortsätter med en klassisk indisk Thali – en måltid som består av flera olika rätter. Malins senaste bok kommer finnas till försäljning och hon kommer ha signering efter middagen. \nVi ser fram mot en kväll fylld av underbar indisk mat och historier från hennes enorma erfarenhet av denna kultur. \nMeny\nFördrink och papadams med &8221; mango chutney och tomat- och jordnötsraita \nEn klassisk indisk Thali: \nCoconut fish curry – vego/vegan alternativ chana masala – kikärtscurry) \nDal – linsgryta \nSabji – steka grönsaker \nRis och naan bröd \nDessert – kaffe och chilichoklad-mousse \nTvå glas vin utvalda av våra sommelierer tillsammans med Malin \nAnmäl eventuella allergener eller om ni önskar alkoholfri dryckesmeny i meddelandet vid bokning. \nSom alltid tycker vi att PM & Vänner upplevs bäst med en övernattning. Läs mer om våra olika alternativ nedan. Middagen går av stapeln i vår Festvåning. \nPaket 1 – Går endast att boka via vår reception\n– Indisk middag signerad Malin Mendel\n– Fördrink\n–Tillhörande dryckesmeny utvalt av vårt sommelierteam\n– Del i dubbelrum\, kategori Classic\n– Trådlöst Wi-Fi\n– Tillgång till gym\, pooler och bastu\n– Vår prisbelönta frukost serverad på PM Bar \nPris: 2 495 kr per person \nFör att komma i kontakt med vår reception\, maila till\nreservations@pmhotel.se eller ring 0470-75 97 00 \n__________________________________ \nPaket 2 – Går endast att boka online på länken nedan\n– Indisk middag signerad Malin Mendel\n– Fördrink\n–Tillhörande dryckesmeny utvalt av vårt sommelierteam \nPris: 1 495 kr per person \nBokning av paket 2 sker via genom att klicka här: BOKA PAKET 2 \n\nVänligen notera vi ej kan tillgodose önskemål om vegansk eller mjölkproteinfri meny\noch att det är ert ansvar som gäst att meddela oss eventuella allergier eller kostpreferenser.\nAnmälan om specialkost måste vara oss tillhanda via reservations@pmhotel.se\nsenast 48 timmar innan ankomst för att vi ska kunna garantera ert önskemål. \nVi tar full betalning vid bokning. Avbokningar senare än sju dagar innan ankomst debiteras med fullt pris. Avbokningar tidigare än sju dagar innan ankomst debiteras med 10 % av bokningen värde. \nVarmt välkomna till en oförglömlig upplevelse på PM & Vänner Hotel!
URL:https://pmrestauranger.se/event/unikt-indiskt-gastspel-med-malin-mendel/
LOCATION:PM & Vänner\, Västergatan 10\, Växjö\, 352 31\, Sverige
ATTACH;FMTTYPE=image/jpeg:https://pmrestauranger.se/wp-content/uploads/2024/08/Malin_Mendel_evenemangskalender.jpg
END:VEVENT
BEGIN:VEVENT
DTSTART;VALUE=DATE:20241017
DTEND;VALUE=DATE:20241020
DTSTAMP:20260419T182623
CREATED:20240930T045311Z
LAST-MODIFIED:20241008T115944Z
UID:10001609-1729123200-1729382399@pmrestauranger.se
SUMMARY:FLORA PM & VÄNNER 10 ÅR
DESCRIPTION:I år är det 10 år sedan Flora PM & Vänner slog upp dörrarna. Flora\, en grön oas mitt i Växjö vars sortiment går som en röd tråd genom hela verksamheten. Som en del av Floras 10-års jubileum bjuder Flora nu in till en unik chans att uppleva vårt Blomsterbord. Den 17/10\, 18/10 & 19/10 har du möjlighet att boka in dig till vårt populära Blomsterbord\, ett koncept som vanligtvis erbjuds till grupper från åtta personer. \n\n\n\n\n\n\n\nBlomsterbordet är en middag utöver det vanliga\, en trerätters specialkomponerad meny som serveras avskilt i vår blomsterbutik. Med egen servicepersonal och vackra blomsterdekorationer som pryder långbordet har denna unika upplevelse blivit en riktig succé. \nKvällen börjar i vårt atrium där Åsa och Magnus med personal hälsar alla välkomna och\nberättar om Floras historia och filosofi\, detta tillsammans med en blomsterinspirerad fördrink framtagen tillsammans med PM Bar. Kvällen fortlöper sedan på blomsterbordet med en trerättersmeny och tillhörande viner utvalda av vår chefssommelier Rubén Sanz Ramiro. \n\nMENU \nAmuse Bouche \nFörrätt \nMjölkbakad gös med amandine-potatis från Stellan i Bläsinge och egenrörd stenbitsrom\, serveras med ostcrème på Gammel Knas samt krispigt bovete och fläderkapris från Odensjö  \nVarmrätt\nÅngad bergtunga med stuvad spetskål och purjolök från Vassmolösa smaksatt med kyndel från vår trädgård\, serveras med smörstekta kantareller samt varmrökt baconsida och vattenkrasse  \nAlternativt \nUtvald ryggbiff på älg med bakad jordärtskocka från Vrånghult och potatiskroketter smaksatta med timjan och rostad vitlök\, serveras med friterad persilja\, picklade blåbär och veloutésås smaksatt med enbär \nDessert\nNyponsoppa ”façon PM” smaksatt med punsch\, serveras med konditoriets mandelbiskvier\, vaniljglass\, pannacotta smaksatt med citrontimjan samt dulceychoklad och rostad mandel  \n  \n\n\nVid frågor\, vänligen kontakta Samuel Sörgårn via email samuel@pmrestauranger.se \n\n__________________________________\n\nPaket 1 – Går endast att online \n\n\n– Middag vid Blomsterbordet med tillhörande fördrink\, vinpaket eller alkoholfritt dryckespaket \n\nPris: 1395kr per person \n\n\n\n\n\nBoka paket 1 här\n\n\n  \n\n\n\n\n__________________________________\n\nPaket 2 – Går endast att boka via vår reception \n\n– Middag vid Blomsterbordet med tillhörande fördrink\, vinpaket eller alkoholfritt dryckespaket\n– Del i dubbelrum\, kategori Classic\n– Trådlöst Wi-Fi\n– Tillgång till gym\, pooler och bastu\n\n– Vår prisbelönta frukost serverad på PM Bar \n\nPris: 2395kr per person \n\n\nFör att komma i kontakt med vår reception\, maila till \n\n\nreservations@pmhotel.se eller ring 0470-75 97 00 \n\nAvbokningar senare än 48 timmar innan ankomst debiteras med fullt menypris. \n\nVarmt välkomna till en magisk upplevelse hos PM & Vänner!
URL:https://pmrestauranger.se/event/flora-pm-vanner-10-ar/
LOCATION:PM & Vänner\, Västergatan 10\, Växjö\, 352 31\, Sverige
ATTACH;FMTTYPE=image/jpeg:https://pmrestauranger.se/wp-content/uploads/2024/09/flora_10_ar_evenemangskalender.jpg
END:VEVENT
BEGIN:VEVENT
DTSTART;TZID=Europe/Stockholm:20241018T150000
DTEND;TZID=Europe/Stockholm:20241018T170000
DTSTAMP:20260419T182623
CREATED:20240416T112506Z
LAST-MODIFIED:20240428T114920Z
UID:10000836-1729263600-1729270800@pmrestauranger.se
SUMMARY:Ostron & Champagne
DESCRIPTION:Varje fredag mellan 15:00 och 17:00 erbjuder vi ostron för endast 25 kr/st och champagne för 119 kr/glas så långt lagret räcker. Självklart har vi också utmärkta alkoholfria alternativ för den som önskar. \nVälkomna att starta helgen på bästa sätt!
URL:https://pmrestauranger.se/event/ostron-champagne/2024-10-18/
ATTACH;FMTTYPE=image/jpeg:https://pmrestauranger.se/wp-content/uploads/2024/04/aw_slider.jpg
END:VEVENT
BEGIN:VEVENT
DTSTART;TZID=Europe/Stockholm:20241019T130000
DTEND;TZID=Europe/Stockholm:20241019T170000
DTSTAMP:20260419T182623
CREATED:20240531T045300Z
LAST-MODIFIED:20250203T201922Z
UID:10001356-1729342800-1729357200@pmrestauranger.se
SUMMARY:Afternoon Tea
DESCRIPTION:Upplev PM & Vänner Atrium och förgyll din lördag med härliga godsaker från vårt hus\n\nPM & Vänner Atrium är en underbar mötesplats i hjärtat av hotellet med FLORA\, hotellreceptionen och vår bistro som närmsta grannar. Här serverar vi Afternoon Tea varje lördag med två fasta sittningstider\, 13.00 och 15.00. Ta en paus från shoppingen på stan eller passa på att skämma bort någon du håller kär.\n\n\n\nVäl på plats kan ni avnjuta smörrebröd\, kringlor med marmelad\, wienerbröd\, pain au chocolate\, praliner\, ostkaka och mycket mer. Till detta serverar vi ett väl utvalt sortiment av te och önskar man champagne finns även det att beställa. \nPris:\n345 kr (445 kr med ett glas champagne)\n175 kr för barn under 12 år \nBOKA DITT BORD HÄR \nVarmt välkomna!
URL:https://pmrestauranger.se/event/afternoon-tea/2024-10-19/
LOCATION:PM & Vänner\, Västergatan 10\, Växjö\, 352 31\, Sverige
ATTACH;FMTTYPE=image/jpeg:https://pmrestauranger.se/wp-content/uploads/2024/05/afternoon_tea_evenemangskalender.jpg
END:VEVENT
BEGIN:VEVENT
DTSTART;TZID=Europe/Stockholm:20241025T150000
DTEND;TZID=Europe/Stockholm:20241025T170000
DTSTAMP:20260419T182623
CREATED:20240416T112506Z
LAST-MODIFIED:20240428T114920Z
UID:10000837-1729868400-1729875600@pmrestauranger.se
SUMMARY:Ostron & Champagne
DESCRIPTION:Varje fredag mellan 15:00 och 17:00 erbjuder vi ostron för endast 25 kr/st och champagne för 119 kr/glas så långt lagret räcker. Självklart har vi också utmärkta alkoholfria alternativ för den som önskar. \nVälkomna att starta helgen på bästa sätt!
URL:https://pmrestauranger.se/event/ostron-champagne/2024-10-25/
ATTACH;FMTTYPE=image/jpeg:https://pmrestauranger.se/wp-content/uploads/2024/04/aw_slider.jpg
END:VEVENT
BEGIN:VEVENT
DTSTART;TZID=Europe/Stockholm:20241025T160000
DTEND;TZID=Europe/Stockholm:20241025T190000
DTSTAMP:20260419T182623
CREATED:20240917T050706Z
LAST-MODIFIED:20240917T050706Z
UID:10001608-1729872000-1729882800@pmrestauranger.se
SUMMARY:Hela huset Skakar
DESCRIPTION:Vintern må snart vara här men låt oss ignorera det för några timmar och istället njuta av den tidlösa klassiker Ostron & Champagne! Under några timmar kostar våra ostron endast 10 kr/st och ett glas champagne blir ditt för fyndpriset 99 kr. Självklart har vi fantastiska alkoholfria alternativ för alla som önskar! \nFör er som föredrar pizza över ostron (eller kanske vill ha båda) så serverar Bröd & Sovel sin berömda surdegspizza. Avnjutes bäst på plats med ett gott glas men går även utmärkt att plocka med sig hem. Beställningar sker på 0470-759730. \nVarmt välkomna\, och låt oss vägra vintern tillsammans!
URL:https://pmrestauranger.se/event/hela-huset-skakar-2/
LOCATION:PM & Vänner\, Västergatan 10\, Växjö\, 352 31\, Sverige
ATTACH;FMTTYPE=image/jpeg:https://pmrestauranger.se/wp-content/uploads/2024/09/slider_hela_huset_skakar_tema_vaga_vagra_vinter.jpg
END:VEVENT
BEGIN:VEVENT
DTSTART;TZID=Europe/Stockholm:20241026T130000
DTEND;TZID=Europe/Stockholm:20241026T170000
DTSTAMP:20260419T182623
CREATED:20240531T045300Z
LAST-MODIFIED:20250203T201922Z
UID:10001357-1729947600-1729962000@pmrestauranger.se
SUMMARY:Afternoon Tea
DESCRIPTION:Upplev PM & Vänner Atrium och förgyll din lördag med härliga godsaker från vårt hus\n\nPM & Vänner Atrium är en underbar mötesplats i hjärtat av hotellet med FLORA\, hotellreceptionen och vår bistro som närmsta grannar. Här serverar vi Afternoon Tea varje lördag med två fasta sittningstider\, 13.00 och 15.00. Ta en paus från shoppingen på stan eller passa på att skämma bort någon du håller kär.\n\n\n\nVäl på plats kan ni avnjuta smörrebröd\, kringlor med marmelad\, wienerbröd\, pain au chocolate\, praliner\, ostkaka och mycket mer. Till detta serverar vi ett väl utvalt sortiment av te och önskar man champagne finns även det att beställa. \nPris:\n345 kr (445 kr med ett glas champagne)\n175 kr för barn under 12 år \nBOKA DITT BORD HÄR \nVarmt välkomna!
URL:https://pmrestauranger.se/event/afternoon-tea/2024-10-26/
LOCATION:PM & Vänner\, Västergatan 10\, Växjö\, 352 31\, Sverige
ATTACH;FMTTYPE=image/jpeg:https://pmrestauranger.se/wp-content/uploads/2024/05/afternoon_tea_evenemangskalender.jpg
END:VEVENT
END:VCALENDAR