BEGIN:VCALENDAR
VERSION:2.0
PRODID:-//PM &amp; Vänner - ECPv6.3.6//NONSGML v1.0//EN
CALSCALE:GREGORIAN
METHOD:PUBLISH
X-ORIGINAL-URL:https://pmrestauranger.se
X-WR-CALDESC:Händelser för PM &amp; Vänner
REFRESH-INTERVAL;VALUE=DURATION:PT1H
X-Robots-Tag:noindex
X-PUBLISHED-TTL:PT1H
BEGIN:VTIMEZONE
TZID:Europe/Stockholm
BEGIN:DAYLIGHT
TZOFFSETFROM:+0100
TZOFFSETTO:+0200
TZNAME:CEST
DTSTART:20240331T010000
END:DAYLIGHT
BEGIN:STANDARD
TZOFFSETFROM:+0200
TZOFFSETTO:+0100
TZNAME:CET
DTSTART:20241027T010000
END:STANDARD
END:VTIMEZONE
BEGIN:VEVENT
DTSTART;TZID=Europe/Stockholm:20240802T150000
DTEND;TZID=Europe/Stockholm:20240802T170000
DTSTAMP:20260419T225423
CREATED:20240416T112506Z
LAST-MODIFIED:20240428T114920Z
UID:10000825-1722610800-1722618000@pmrestauranger.se
SUMMARY:Ostron & Champagne
DESCRIPTION:Varje fredag mellan 15:00 och 17:00 erbjuder vi ostron för endast 25 kr/st och champagne för 119 kr/glas så långt lagret räcker. Självklart har vi också utmärkta alkoholfria alternativ för den som önskar. \nVälkomna att starta helgen på bästa sätt!
URL:https://pmrestauranger.se/event/ostron-champagne/2024-08-02/
ATTACH;FMTTYPE=image/jpeg:https://pmrestauranger.se/wp-content/uploads/2024/04/aw_slider.jpg
END:VEVENT
BEGIN:VEVENT
DTSTART;TZID=Europe/Stockholm:20240809T150000
DTEND;TZID=Europe/Stockholm:20240809T170000
DTSTAMP:20260419T225423
CREATED:20240416T112506Z
LAST-MODIFIED:20240428T114920Z
UID:10000826-1723215600-1723222800@pmrestauranger.se
SUMMARY:Ostron & Champagne
DESCRIPTION:Varje fredag mellan 15:00 och 17:00 erbjuder vi ostron för endast 25 kr/st och champagne för 119 kr/glas så långt lagret räcker. Självklart har vi också utmärkta alkoholfria alternativ för den som önskar. \nVälkomna att starta helgen på bästa sätt!
URL:https://pmrestauranger.se/event/ostron-champagne/2024-08-09/
ATTACH;FMTTYPE=image/jpeg:https://pmrestauranger.se/wp-content/uploads/2024/04/aw_slider.jpg
END:VEVENT
BEGIN:VEVENT
DTSTART;TZID=Europe/Stockholm:20240816T150000
DTEND;TZID=Europe/Stockholm:20240816T170000
DTSTAMP:20260419T225423
CREATED:20240416T112506Z
LAST-MODIFIED:20240428T114920Z
UID:10000827-1723820400-1723827600@pmrestauranger.se
SUMMARY:Ostron & Champagne
DESCRIPTION:Varje fredag mellan 15:00 och 17:00 erbjuder vi ostron för endast 25 kr/st och champagne för 119 kr/glas så långt lagret räcker. Självklart har vi också utmärkta alkoholfria alternativ för den som önskar. \nVälkomna att starta helgen på bästa sätt!
URL:https://pmrestauranger.se/event/ostron-champagne/2024-08-16/
ATTACH;FMTTYPE=image/jpeg:https://pmrestauranger.se/wp-content/uploads/2024/04/aw_slider.jpg
END:VEVENT
BEGIN:VEVENT
DTSTART;TZID=Europe/Stockholm:20240823T150000
DTEND;TZID=Europe/Stockholm:20240823T170000
DTSTAMP:20260419T225423
CREATED:20240416T112506Z
LAST-MODIFIED:20240428T114920Z
UID:10000828-1724425200-1724432400@pmrestauranger.se
SUMMARY:Ostron & Champagne
DESCRIPTION:Varje fredag mellan 15:00 och 17:00 erbjuder vi ostron för endast 25 kr/st och champagne för 119 kr/glas så långt lagret räcker. Självklart har vi också utmärkta alkoholfria alternativ för den som önskar. \nVälkomna att starta helgen på bästa sätt!
URL:https://pmrestauranger.se/event/ostron-champagne/2024-08-23/
ATTACH;FMTTYPE=image/jpeg:https://pmrestauranger.se/wp-content/uploads/2024/04/aw_slider.jpg
END:VEVENT
BEGIN:VEVENT
DTSTART;TZID=Europe/Stockholm:20240825T160000
DTEND;TZID=Europe/Stockholm:20240825T220000
DTSTAMP:20260419T225423
CREATED:20240630T042608Z
LAST-MODIFIED:20240630T043305Z
UID:10001601-1724601600-1724623200@pmrestauranger.se
SUMMARY:PM:S KRÄFTSKIVA - SKOG\, ÄNG & SJÖ
DESCRIPTION:Två söndagar\, 25 augusti och 1 september\, serverar vi ”en redi småländsk kräftskiva” på vårt vis med allt vad det innebär. Vi kommer erbjuda flera olika drycker som passar till serveringarna\, utvalda av vårt sommelier-team\, och tillsammans skapa en ny tradition med Vännerna. \nMENU \n1:a servering \nNykokta kräftor från Örken 500gram/person  (ca 10-12 kräftor)\nTvå såser\, en mild aioli och en smaksatt med fläder och citron\nLagrad prästost och Krondild från Arla Unika ( vitmögelost med dillfrön)\nTvå sorters bröd samt knäckebröd och smör \n2:s servering\nPM:s kantarelltoast på smörstekt levain \n3:e servering\nVästerbottenostpaj\nEn krispig sallad med grönsaker från Solmarka Gård \n4:e servering\nHelenas dessert i glas med kompott på Discoveryäpplen från Urshult\, bavaroise på brynt smör och vitchoklad\, äppelgelé och crunch på honung från vår egna kupor \nFesten går av stapeln i vår bistro och självklart blir kräftskivan komplett tillsammans med en övernattning och vår prisbelönta frukost dagen efter. \n\n\n\n\n\nPaket 1 – Går endast att boka via vår reception\n– PM:s Kräftskiva – Skog\, Äng & Sjö\n– Del i dubbelrum\, kategori Classic\n– Trådlöst Wi-Fi\n– Tillgång till gym\, pooler och bastu\n– Vår prisbelönta frukost serverad på PM Bar \nPris: 1 795 kr per person \nFör att komma i kontakt med vår reception\, maila till\nreservations@pmhotel.se eller ring 0470-75 97 00 \n__________________________________ \nPaket 2 – Går endast att boka online på länken nedan\n– PM:s Kräftskiva – Skog\, Äng & Sjö \nPris: 795 kr per person \nBokning av paket 2 sker via genom att Klicka här \n\nVänligen notera vi ej kan tillgodose önskemål om vegansk eller mjölkproteinfri meny\noch att det är ert ansvar som gäst att meddela oss eventuella allergier eller kostpreferenser.\nAnmälan om specialkost måste vara oss tillhanda via reservations@pmhotel.se\nsenast 48 timmar innan ankomst för att vi ska kunna garantera ert önskemål.
URL:https://pmrestauranger.se/event/pms-kraftskiva-skog-ang-sjo/2024-08-25/
LOCATION:PM & Vänner\, Västergatan 10\, Växjö\, 352 31\, Sverige
ATTACH;FMTTYPE=image/jpeg:https://pmrestauranger.se/wp-content/uploads/2024/06/evenemangskalender_kraftskiva.jpg
END:VEVENT
BEGIN:VEVENT
DTSTART;TZID=Europe/Stockholm:20240830T150000
DTEND;TZID=Europe/Stockholm:20240830T170000
DTSTAMP:20260419T225423
CREATED:20240416T112506Z
LAST-MODIFIED:20240428T114920Z
UID:10000829-1725030000-1725037200@pmrestauranger.se
SUMMARY:Ostron & Champagne
DESCRIPTION:Varje fredag mellan 15:00 och 17:00 erbjuder vi ostron för endast 25 kr/st och champagne för 119 kr/glas så långt lagret räcker. Självklart har vi också utmärkta alkoholfria alternativ för den som önskar. \nVälkomna att starta helgen på bästa sätt!
URL:https://pmrestauranger.se/event/ostron-champagne/2024-08-30/
ATTACH;FMTTYPE=image/jpeg:https://pmrestauranger.se/wp-content/uploads/2024/04/aw_slider.jpg
END:VEVENT
BEGIN:VEVENT
DTSTART;TZID=Europe/Stockholm:20240830T160000
DTEND;TZID=Europe/Stockholm:20240830T190000
DTSTAMP:20260419T225423
CREATED:20240816T073846Z
LAST-MODIFIED:20240816T073959Z
UID:10001603-1725033600-1725044400@pmrestauranger.se
SUMMARY:Hela huset skakar - Homecoming Party
DESCRIPTION: Välkommen tillbaka – vi firar att semestern är slut med småländska priser i baren! Fortsätt sedan kvällen med att testa någon av rätterna på menyn som våra långväga gäster hyllat i sommar. Närproducerat med en asiatisk twist. Serveras från kl 19.  \nFör er som hellre avnjuter vår berömda pizza från Bröd & Sovel så serveras den som vanligt från 16:00. Beställning för avhämtning sker på 0470-75 97 30‬. \nMELLERUD 33CL FLASKA – 50 KR  \nHUSET VITA/RÖDA- 65 KR/GLAS  \nCAVA – 69 KR/GLAS  \nKVÄLLENS DRINK – 125 KR  \nALKOHOLFRI MELLERUD – 30 KR 
URL:https://pmrestauranger.se/event/hela-huset-skakar-homecoming-party/
LOCATION:PM & Vänner Bar\, Västergatan 10\, Växjö\, 35231\, Sverige
ATTACH;FMTTYPE=image/jpeg:https://pmrestauranger.se/wp-content/uploads/2024/08/evenemangskalender_Homecoming_Party.jpg
END:VEVENT
END:VCALENDAR