BEGIN:VCALENDAR
VERSION:2.0
PRODID:-//PM &amp; Vänner - ECPv6.3.6//NONSGML v1.0//EN
CALSCALE:GREGORIAN
METHOD:PUBLISH
X-ORIGINAL-URL:https://pmrestauranger.se
X-WR-CALDESC:Händelser för PM &amp; Vänner
REFRESH-INTERVAL;VALUE=DURATION:PT1H
X-Robots-Tag:noindex
X-PUBLISHED-TTL:PT1H
BEGIN:VTIMEZONE
TZID:Europe/Stockholm
BEGIN:DAYLIGHT
TZOFFSETFROM:+0100
TZOFFSETTO:+0200
TZNAME:CEST
DTSTART:20260329T010000
END:DAYLIGHT
BEGIN:STANDARD
TZOFFSETFROM:+0200
TZOFFSETTO:+0100
TZNAME:CET
DTSTART:20261025T010000
END:STANDARD
END:VTIMEZONE
BEGIN:VEVENT
DTSTART;TZID=Europe/Stockholm:20260214T180000
DTEND;TZID=Europe/Stockholm:20260214T210000
DTSTAMP:20260421T095423
CREATED:20260121T204901Z
LAST-MODIFIED:20260128T192534Z
UID:10003582-1771092000-1771102800@pmrestauranger.se
SUMMARY:ALLA HJÄRTANS DAG PÅ PM
DESCRIPTION:Fira Alla hjärtans dag i PM:s vackra takbar med utsikt över Smålands hjärta.\nMed livepianist\, levande ljus och rosor på bordet bjuder vi in till en New York-inspirerad kväll i kärlekens tecken\, i hjärtat av Småland.\n\n\n\nAlla hjärtans dag-meny à la PM\n\nAmuse-Bouche à la PM  \nVannameiräkor ”Yakitori”\, serveras med krispig sallad med Bang Bang-dressing\, Almenäs Tegel-ost\, krispig gurka och het Shichimi Togarashi \n“Steak Minute“ på hängmörad ryggbiff\, serveras med pepparsås smaksatt med svensk miso\,  grillad lök\, soja-dressad grönsallad samt husets dubbelfriterade pommes frîtes \nPM:s crème brûlée smaksatt med miso och hallonmarmelad \n\n\n\n\nI paketet ingår:\n-Middag i fyra serveringar hos PM Bar\n-Tillhörande vinpaket / cocktailpaket / alkoholfritt paket (uppges vid bokning).\nPris: 1 495 kr / per person.\n\nKlicka här för att boka middag\n\nVill ni kombinera kvällen med hotellövernattning bjuder vi på en fri uppgradering av rummet till ett värde upp till 795 kr*. Bokning av hotellrum görs via hotellreceptionen på reservations@pmhotel.se eller 0470-75 97 00.\n\nVarmt välkomna till en stämningsfull kväll hos PM & Vänner!\n\n*Gäller ej hotellbokningar via tredje part.
URL:https://pmrestauranger.se/event/alla-hjartans-dag-pa-pm/
LOCATION:PM & Vänner\, Västergatan 10\, Växjö\, 352 31\, Sverige
ATTACH;FMTTYPE=image/jpeg:https://pmrestauranger.se/wp-content/uploads/2026/01/alla_hjartans_dag_2026_slider.jpg
END:VEVENT
END:VCALENDAR