BEGIN:VCALENDAR
VERSION:2.0
PRODID:-//PM &amp; Vänner - ECPv6.3.6//NONSGML v1.0//EN
CALSCALE:GREGORIAN
METHOD:PUBLISH
X-WR-CALNAME:PM &amp; Vänner
X-ORIGINAL-URL:https://pmrestauranger.se
X-WR-CALDESC:Händelser för PM &amp; Vänner
REFRESH-INTERVAL;VALUE=DURATION:PT1H
X-Robots-Tag:noindex
X-PUBLISHED-TTL:PT1H
BEGIN:VTIMEZONE
TZID:Europe/Stockholm
BEGIN:DAYLIGHT
TZOFFSETFROM:+0100
TZOFFSETTO:+0200
TZNAME:CEST
DTSTART:20260329T010000
END:DAYLIGHT
BEGIN:STANDARD
TZOFFSETFROM:+0200
TZOFFSETTO:+0100
TZNAME:CET
DTSTART:20261025T010000
END:STANDARD
END:VTIMEZONE
BEGIN:VEVENT
DTSTART;TZID=Europe/Stockholm:20260101T123000
DTEND;TZID=Europe/Stockholm:20260101T160000
DTSTAMP:20260421T115617
CREATED:20251229T085247Z
LAST-MODIFIED:20251229T085247Z
UID:10003580-1767270600-1767283200@pmrestauranger.se
SUMMARY:NYÅRSBRUNCH PÅ PM
DESCRIPTION:Finns det något härligare än att inleda det nya året med vänner och familj över en riktigt härlig brunch? Det är utan tvekan bland det bästa vi vet i alla fall. Därför serverar vi vi den 1/1 en rejält tilltagen brunch bestående av det bästa från vår ordinarie frukost utökad med lite matigare rätter. Det kan vara allt från råraka med stenbitsrom till Caesarsallad. \nDessutom är dessertutbudet rejält utökad med macarons\, brownies\, energipinne\, chokladbollar\, citrontarte etc. Som om inte det vore nog ingår alltid ditt val av kaffe (ex espresso\, latte\, cappuccino)\, juice och smoothies. Vi erbjuder även Champagne\, Bloody Mary och Mimosa. \nVår brunch serveras från klockan 12.30. Vänligen notera att varje bokning har en tidsbegränsad sittningstid på 90 minuter. Bokning sker enklast online här på vår hemsida. \nPris: 399 kr för vuxna\, 179 kr för barn under 12 år.
URL:https://pmrestauranger.se/event/nyarsbrunch-pa-pm/
LOCATION:PM & Vänner\, Västergatan 10\, Växjö\, 352 31\, Sverige
ATTACH;FMTTYPE=image/png:https://pmrestauranger.se/wp-content/uploads/2025/12/PM-BA-L.png
END:VEVENT
END:VCALENDAR