BEGIN:VCALENDAR
VERSION:2.0
PRODID:-//PM &amp; Vänner - ECPv6.3.6//NONSGML v1.0//EN
CALSCALE:GREGORIAN
METHOD:PUBLISH
X-ORIGINAL-URL:https://pmrestauranger.se
X-WR-CALDESC:Händelser för PM &amp; Vänner
REFRESH-INTERVAL;VALUE=DURATION:PT1H
X-Robots-Tag:noindex
X-PUBLISHED-TTL:PT1H
BEGIN:VTIMEZONE
TZID:Europe/Stockholm
BEGIN:DAYLIGHT
TZOFFSETFROM:+0100
TZOFFSETTO:+0200
TZNAME:CEST
DTSTART:20250330T010000
END:DAYLIGHT
BEGIN:STANDARD
TZOFFSETFROM:+0200
TZOFFSETTO:+0100
TZNAME:CET
DTSTART:20251026T010000
END:STANDARD
END:VTIMEZONE
BEGIN:VEVENT
DTSTART;TZID=Europe/Stockholm:20251204T180000
DTEND;TZID=Europe/Stockholm:20251204T220000
DTSTAMP:20260421T033421
CREATED:20251015T131205Z
LAST-MODIFIED:20251015T131205Z
UID:10003510-1764871200-1764885600@pmrestauranger.se
SUMMARY:Matsalen Wine Dinner
DESCRIPTION:We are delighted to announce a special evening dedicated to the excellence of grower Champagnes. Join us at PM & Vänner Matsal for a carefully curated dinner where we will highlight our remarkable Champagne collection\, thoughtfully paired by a seasonal menu.\n\nLet our sommelier team guide you through a remarkable night of gastronomy and wine at PM & Vänner\, each dish paired with a complementary wine.\n\nDatum: 4 december 18.00\nPris: 2295kr per person\n\nLänk för bokning: https://app.bokabord.se/reservation/?hash=ea192a0bb088350b6492bad7418b8101&version=new&mealid=53158
URL:https://pmrestauranger.se/event/matsalen-wine-dinner-2/
LOCATION:PM & Vänner\, Västergatan 10\, Växjö\, 352 31\, Sverige
ATTACH;FMTTYPE=image/png:https://pmrestauranger.se/wp-content/uploads/2025/10/Matsalen_wine_dinner_4dec.png
END:VEVENT
END:VCALENDAR