BEGIN:VCALENDAR
VERSION:2.0
PRODID:-//PM &amp; Vänner - ECPv6.3.6//NONSGML v1.0//EN
CALSCALE:GREGORIAN
METHOD:PUBLISH
X-ORIGINAL-URL:https://pmrestauranger.se
X-WR-CALDESC:Händelser för PM &amp; Vänner
REFRESH-INTERVAL;VALUE=DURATION:PT1H
X-Robots-Tag:noindex
X-PUBLISHED-TTL:PT1H
BEGIN:VTIMEZONE
TZID:Europe/Stockholm
BEGIN:DAYLIGHT
TZOFFSETFROM:+0100
TZOFFSETTO:+0200
TZNAME:CEST
DTSTART:20250330T010000
END:DAYLIGHT
BEGIN:STANDARD
TZOFFSETFROM:+0200
TZOFFSETTO:+0100
TZNAME:CET
DTSTART:20251026T010000
END:STANDARD
END:VTIMEZONE
BEGIN:VEVENT
DTSTART;TZID=Europe/Stockholm:20251115T183000
DTEND;TZID=Europe/Stockholm:20251115T220000
DTSTAMP:20260421T003827
CREATED:20250922T045305Z
LAST-MODIFIED:20250922T045305Z
UID:10003502-1763231400-1763244000@pmrestauranger.se
SUMMARY:Gästspel med Thomas Sjögren
DESCRIPTION:Den 15/11 gästas PM & Vänner av stjärnkocken Thomas Sjögren.\nThomas meritlista är både gedigen och extraordinär. Han är såväl vinnare i Årets kock 2015 som vinnare av Kockarnas kamp 2018. I våras tilldelades restaurang Signum\, som ägs och drivs av Thomas\, två stjärnor i Guide Michelin. Under hösten syns han som domare i TV-programmen Mästerkocken och är med i nästa säsong av Över Atlanten. PM bjuder in till en unik kväll i vår privata festvåning där Thomas presenterar en signaturmeny i fem serveringar som serveras tillsammans med viner utvalda av vårt sommelier-team.\n\nMiddagen serveras vid gemensamma bord i vår privata festvåning med start klockan 18.30.\n\n__________________________________\nPaket 1 – Går endast att boka via vår reception\n– Thomas  Sjögrens signaturmeny med tillhörande dryckespaket\n– Del i dubbelrum\, kategori Classic\n– Trådlöst Wi-Fi\n– Tillgång till gym\, pooler och bastu\n– Vår prisbelönta frukost serverad på PM Bar\nPris: 3 495 kr per person\nFör att komma i kontakt med vår reception\, maila till\nreservations@pmhotel.se eller ring 0470-75 97 00\n__________________________________\nPaket 2 – Går endast att boka online på länken nedan\n– Thomas  Sjögrens signaturmeny med tillhörande dryckespaket\nPris: 2 495 kr per person\nBokning av paket 2 sker via genom att klicka HÄR.\n\nVänligen notera vi ej kan tillgodose önskemål om vegansk eller mjölkproteinfri meny\noch att det är ert ansvar som gäst att meddela oss eventuella allergier eller kostpreferenser.\nAnmälan om specialkost måste vara oss tillhanda via reservations@pmhotel.se\nsenast 48 timmar innan ankomst för att vi ska kunna garantera ert önskemål.\nVi tar full betalning vid bokning. Avbokningar senare än 7 dagar innan ankomst debiteras med fullt pris.\nAvbokningar tidigare debiteras med 10 % av bokningens totala värde.\n\nVarmt välkomna till en oförglömlig upplevelse på PM & Vänner Hotel!
URL:https://pmrestauranger.se/event/gastspel-med-thomas-sjogren/
LOCATION:PM & Vänner\, Västergatan 10\, Växjö\, 352 31\, Sverige
ATTACH;FMTTYPE=image/jpeg:https://pmrestauranger.se/wp-content/uploads/2022/12/Unknown.jpeg
END:VEVENT
END:VCALENDAR