BEGIN:VCALENDAR
VERSION:2.0
PRODID:-//PM &amp; Vänner - ECPv6.3.6//NONSGML v1.0//EN
CALSCALE:GREGORIAN
METHOD:PUBLISH
X-WR-CALNAME:PM &amp; Vänner
X-ORIGINAL-URL:https://pmrestauranger.se
X-WR-CALDESC:Händelser för PM &amp; Vänner
REFRESH-INTERVAL;VALUE=DURATION:PT1H
X-Robots-Tag:noindex
X-PUBLISHED-TTL:PT1H
BEGIN:VTIMEZONE
TZID:Europe/Stockholm
BEGIN:DAYLIGHT
TZOFFSETFROM:+0100
TZOFFSETTO:+0200
TZNAME:CEST
DTSTART:20250330T010000
END:DAYLIGHT
BEGIN:STANDARD
TZOFFSETFROM:+0200
TZOFFSETTO:+0100
TZNAME:CET
DTSTART:20251026T010000
END:STANDARD
END:VTIMEZONE
BEGIN:VEVENT
DTSTART;TZID=Europe/Stockholm:20251108T190000
DTEND;TZID=Europe/Stockholm:20251108T190000
DTSTAMP:20260421T003618
CREATED:20250929T071559Z
LAST-MODIFIED:20250929T193225Z
UID:10003505-1762628400-1762628400@pmrestauranger.se
SUMMARY:Wine Icons - António Maçanita
DESCRIPTION:Vi är glada att få välkomna António Maçanita som hedersgäst vid kommande Wine Icons Dinner. Kvällen till ära har vår Wine Director\, Rubén Sanz Ramiro\, noggrant satt samman en exklusiv vinlista som ackompanjerar en skräddarsydd femrättersmeny. \nVinmakare\, konsult\, forskare och provokatör – António Maçanita är en av Portugals mest dynamiska och produktiva personligheter. Hans arbete sträcker sig över några av landets mest fascinerande regioner\, från den avlägsna ögruppen Azorerna till ön Madeira. På mindre än två decennier har António gått från att vara en djärv ung utmanare\, ofta mött med skepsis av Portugals traditionella vinestablishment\, till att bli en banbrytare som formar framtiden för portugisiskt vin. \nHans gärning är vida uppmärksammad och han har hyllats av Portugals ledande vinpublikationer med utmärkelser som ”Årets vinmakare”\, ”Mest unika vinmakare” och till och med ”Generationens vinmakare” för sitt banbrytande arbete mellan 2006 och 2016. Med outtröttlig energi och vision hämtar António inspiration från minst fyra olika vinregioner\, samtidigt som han är konsult åt flera av Portugals främsta producenter. Hans unika förmåga att hedra traditionen samtidigt som han driver den framåt gör honom till en av de mest spännande gestalterna i dagens vinvärld. \nVi är hedrade att få stå värdar för António Maçanita den 8 november och inbjuder er varmt att delta i denna oförglömliga kväll. \nMiddagen serveras i vår privata matsal och vi hälsar välkomna vid 19.00 \nPaket 1 António Maçanita  – Går endast att boka via vår reception \n– Femrättersmeny med utvalda viner från António Maçanita\n– Del i dubbelrum\, kategori Classic\n– Trådlöst Wi-Fi\n– Tillgång till gym\, pooler och bastu\n– Vår prisbelönta frukost serverad på PM Bar\nPris: 3 195 kr per person \n\nPaket 2 António Maçanita – Går endast att boka via länken nedan \nFemrättersmeny med utvalda viner från António Maçanita\nPris: 2 195 kr per person \nKlicka här för att boka paket 2 \nFör att komma i kontakt med vår reception\, maila till reservations@pmhotel.se eller ring 0470-75 97 00.\nVänligen notera vi ej kan tillgodose önskemål om vegansk eller mjölkproteinfri meny och att det är ert ansvar som gäst att meddela oss eventuella allergier eller kostpreferenser. Anmälan om specialkost måste vara oss tillhanda via reservations@pmhotel.se senast 48 timmar innan ankomst för att vi ska kunna garantera ert önskemål.\n\nVi tar full betalning vid bokning. Avbokningar debiteras med 5 % av bokningens totala värde\, senast 7 dagar innan bokningen. Med mindre än 7 dagar till bokningen sker ingen återbetalning vid avbokning.\n\nVarmt välkomna till en oförglömlig upplevelse på PM & Vänner Hotel!
URL:https://pmrestauranger.se/event/wine-icons-antonio-macanita/
LOCATION:PM & Vänner\, Västergatan 10\, Växjö\, 352 31\, Sverige
ATTACH;FMTTYPE=image/jpeg:https://pmrestauranger.se/wp-content/uploads/2023/02/wine_icons_22_web-slider.jpg
END:VEVENT
END:VCALENDAR