BEGIN:VCALENDAR
VERSION:2.0
PRODID:-//PM &amp; Vänner - ECPv6.3.6//NONSGML v1.0//EN
CALSCALE:GREGORIAN
METHOD:PUBLISH
X-ORIGINAL-URL:https://pmrestauranger.se
X-WR-CALDESC:Händelser för PM &amp; Vänner
REFRESH-INTERVAL;VALUE=DURATION:PT1H
X-Robots-Tag:noindex
X-PUBLISHED-TTL:PT1H
BEGIN:VTIMEZONE
TZID:Europe/Stockholm
BEGIN:DAYLIGHT
TZOFFSETFROM:+0100
TZOFFSETTO:+0200
TZNAME:CEST
DTSTART:20250330T010000
END:DAYLIGHT
BEGIN:STANDARD
TZOFFSETFROM:+0200
TZOFFSETTO:+0100
TZNAME:CET
DTSTART:20251026T010000
END:STANDARD
END:VTIMEZONE
BEGIN:VEVENT
DTSTART;TZID=Europe/Stockholm:20251024T160000
DTEND;TZID=Europe/Stockholm:20251024T190000
DTSTAMP:20260421T132312
CREATED:20250917T143550Z
LAST-MODIFIED:20250917T143550Z
UID:10003501-1761321600-1761332400@pmrestauranger.se
SUMMARY:Hela Huset Skakar - Ostronfrossa
DESCRIPTION:Vintern står visserligen för dörren\, men låt oss för en stund glömma mörker och kyla och istället omfamna något som aldrig går ur tiden – ostron! Under några timmar kan ni njuta av våra fräscha och smakrika ostron för endast 10 kr styck. Ett tillfälle att unna sig lite lyx i vardagen\, utan att det behöver kännas i plånboken. Vi utlovar även välfyllda glas med kallt vitt vin och champagne.\nSjälvklart finns även fantastiska alkoholfria alternativ för er som önskar något annat i glaset. \nFör den som hellre väljer något matigare\, eller kanske vill följa upp efter några ostron\, erbjuder Bröd & Sovel sin berömda surdegspizza. Gräddad med kärlek och serverad med råvaror av högsta kvalitet. Pizzan avnjuts bäst på plats\, men går utmärkt att ta med sig hem för att fortsätta kvällen i lugn och ro. Beställningar görs enkelt via telefon på 0470-75 97 30. \nSå trotsa vintern\, samla vännerna och kom förbi – varmt välkomna till en kväll där vi tillsammans väljer att fira smaken framför kylan!
URL:https://pmrestauranger.se/event/hela-huset-skakar-ostronfrossa/
LOCATION:PM & Vänner\, Västergatan 10\, Växjö\, 352 31\, Sverige
ATTACH;FMTTYPE=image/jpeg:https://pmrestauranger.se/wp-content/uploads/2025/09/ostronfrossa_webb-slider.jpg
END:VEVENT
END:VCALENDAR