BEGIN:VCALENDAR
VERSION:2.0
PRODID:-//PM &amp; Vänner - ECPv6.3.6//NONSGML v1.0//EN
CALSCALE:GREGORIAN
METHOD:PUBLISH
X-ORIGINAL-URL:https://pmrestauranger.se
X-WR-CALDESC:Händelser för PM &amp; Vänner
REFRESH-INTERVAL;VALUE=DURATION:PT1H
X-Robots-Tag:noindex
X-PUBLISHED-TTL:PT1H
BEGIN:VTIMEZONE
TZID:Europe/Stockholm
BEGIN:DAYLIGHT
TZOFFSETFROM:+0100
TZOFFSETTO:+0200
TZNAME:CEST
DTSTART:20250330T010000
END:DAYLIGHT
BEGIN:STANDARD
TZOFFSETFROM:+0200
TZOFFSETTO:+0100
TZNAME:CET
DTSTART:20251026T010000
END:STANDARD
END:VTIMEZONE
BEGIN:VEVENT
DTSTART;TZID=Europe/Stockholm:20251012T180000
DTEND;TZID=Europe/Stockholm:20251012T210000
DTSTAMP:20260421T132310
CREATED:20250922T084337Z
LAST-MODIFIED:20250925T170508Z
UID:10003503-1760292000-1760302800@pmrestauranger.se
SUMMARY:UNIK SVAMPMIDDAG PÅ PM & VÄNNER
DESCRIPTION:Vår älskade smålandsskog har så mycket att erbjuda på alla sätt\, inte minst under hösten när svampsäsongen blommar.\nPM & Vänner bjuder in till en hyllningskväll av skogen i fyra serveringar där svamparna står i fokus\, ackompanjerad av höstens bästa råvaror från Skog\, Äng & Sjö.\n\nVår ”forager” Stuart är vår ciceron under middagen och ni kommer få njuta av en härlig meny och viner utvalda av våra sommelierer.\n\nPris 749 kr /per person. Dryck tillkommer.\n\nBokas genom att klicka HÄR
URL:https://pmrestauranger.se/event/unik-svampmiddag-pa-pm-vanner/
ATTACH;FMTTYPE=image/png:https://pmrestauranger.se/wp-content/uploads/2025/09/Webslider_svampmiddag-.png.png
END:VEVENT
END:VCALENDAR