BEGIN:VCALENDAR
VERSION:2.0
PRODID:-//PM &amp; Vänner - ECPv6.3.6//NONSGML v1.0//EN
CALSCALE:GREGORIAN
METHOD:PUBLISH
X-ORIGINAL-URL:https://pmrestauranger.se
X-WR-CALDESC:Händelser för PM &amp; Vänner
REFRESH-INTERVAL;VALUE=DURATION:PT1H
X-Robots-Tag:noindex
X-PUBLISHED-TTL:PT1H
BEGIN:VTIMEZONE
TZID:Europe/Stockholm
BEGIN:DAYLIGHT
TZOFFSETFROM:+0100
TZOFFSETTO:+0200
TZNAME:CEST
DTSTART:20250330T010000
END:DAYLIGHT
BEGIN:STANDARD
TZOFFSETFROM:+0200
TZOFFSETTO:+0100
TZNAME:CET
DTSTART:20251026T010000
END:STANDARD
END:VTIMEZONE
BEGIN:VEVENT
DTSTART;TZID=Europe/Stockholm:20251009T180000
DTEND;TZID=Europe/Stockholm:20251009T220000
DTSTAMP:20260421T132405
CREATED:20250922T084609Z
LAST-MODIFIED:20250922T084717Z
UID:10003504-1760032800-1760047200@pmrestauranger.se
SUMMARY:MATSALEN WINE DINNER
DESCRIPTION:We are delighted to announce a special evening dedicated to the excellence of Austrian wine. Join us at PM & Vänner Matsal for a carefully curated dinner where we will highlight our remarkable Austrian collection\, thoughtfully paired by a seasonal menu.\n\nLet our sommelier team guide you through a remarkable night of gastronomy and wine at PM & Vänner featuring a five-course dinner\, each paired with a complementary wine\n\nTHURSDAY 9 OCT KL. 18.00\nPRICE: 1995 KR PER PERSON\nEXCLUSIVE\, 12 GUESTS ONLY!\n\nRESERVATIONS – CLICK HERE!
URL:https://pmrestauranger.se/event/matsalen-wine-dinner/
LOCATION:PM & Vänner\, Västergatan 10\, Växjö\, 352 31\, Sverige
ATTACH;FMTTYPE=image/png:https://pmrestauranger.se/wp-content/uploads/2025/09/Unknown.png
END:VEVENT
END:VCALENDAR