BEGIN:VCALENDAR
VERSION:2.0
PRODID:-//PM &amp; Vänner - ECPv6.3.6//NONSGML v1.0//EN
CALSCALE:GREGORIAN
METHOD:PUBLISH
X-ORIGINAL-URL:https://pmrestauranger.se
X-WR-CALDESC:Händelser för PM &amp; Vänner
REFRESH-INTERVAL;VALUE=DURATION:PT1H
X-Robots-Tag:noindex
X-PUBLISHED-TTL:PT1H
BEGIN:VTIMEZONE
TZID:Europe/Stockholm
BEGIN:DAYLIGHT
TZOFFSETFROM:+0100
TZOFFSETTO:+0200
TZNAME:CEST
DTSTART:20250330T010000
END:DAYLIGHT
BEGIN:STANDARD
TZOFFSETFROM:+0200
TZOFFSETTO:+0100
TZNAME:CET
DTSTART:20251026T010000
END:STANDARD
END:VTIMEZONE
BEGIN:VEVENT
DTSTART;TZID=Europe/Stockholm:20250925T171500
DTEND;TZID=Europe/Stockholm:20250925T190000
DTSTAMP:20260421T160232
CREATED:20250830T085948Z
LAST-MODIFIED:20250906T053549Z
UID:10003243-1758820500-1758826800@pmrestauranger.se
SUMMARY:Föreläsning med Folke Rydén
DESCRIPTION:Den 25 september gästas PM & Vänner av journalisten Folke Rydén som kommer föreläsa i samband med Växjödeklaratioen.\nMed sina många års erfarenhet som journalist och dokumentärfilmare berättar Folke om sitt liv och betydelsefulla händelser.\n\nFörelsäningen är en del av Växjödeklaratrionen – Tillsammans för en hållbar utveckling.\n\nBokas här.\n\nVi erbjuder även 20% rabatt på hotellrum i samband med föreläsningen.\nVänligen kontakta hotellreceptionen för bokning på 0470- 75 97 00 eller reservations@pmhotel.se\nUppge ”FOLKERYDEN”
URL:https://pmrestauranger.se/event/forelasning-med-folke-ryden/
LOCATION:PM & Vänner\, Västergatan 10\, Växjö\, 352 31\, Sverige
ATTACH;FMTTYPE=image/jpeg:https://pmrestauranger.se/wp-content/uploads/2025/08/slider_folke_ryden_med_logo_och_pris.jpg
END:VEVENT
END:VCALENDAR