BEGIN:VCALENDAR
VERSION:2.0
PRODID:-//PM &amp; Vänner - ECPv6.3.6//NONSGML v1.0//EN
CALSCALE:GREGORIAN
METHOD:PUBLISH
X-WR-CALNAME:PM &amp; Vänner
X-ORIGINAL-URL:https://pmrestauranger.se
X-WR-CALDESC:Händelser för PM &amp; Vänner
REFRESH-INTERVAL;VALUE=DURATION:PT1H
X-Robots-Tag:noindex
X-PUBLISHED-TTL:PT1H
BEGIN:VTIMEZONE
TZID:Europe/Stockholm
BEGIN:DAYLIGHT
TZOFFSETFROM:+0100
TZOFFSETTO:+0200
TZNAME:CEST
DTSTART:20250330T010000
END:DAYLIGHT
BEGIN:STANDARD
TZOFFSETFROM:+0200
TZOFFSETTO:+0100
TZNAME:CET
DTSTART:20251026T010000
END:STANDARD
END:VTIMEZONE
BEGIN:VEVENT
DTSTART;TZID=Europe/Stockholm:20250829T160000
DTEND;TZID=Europe/Stockholm:20250829T190000
DTSTAMP:20260421T104708
CREATED:20250807T202227Z
LAST-MODIFIED:20250807T202227Z
UID:10003242-1756483200-1756494000@pmrestauranger.se
SUMMARY:Hela Huset Skakar - Homecoming party
DESCRIPTION:HELA HUSET SKAKAR – POOLPARTY!\nNu på fredag är Hela Huset Skakar tillbaka för att välkomna er hem efter sommarens äventyr. Passa på att återse vänner och bekanta över ett glas eller två\, dela en pizza på Bröd & Sovel och fira att det är fredag! Som vanligt bjuder vi på specialpriser i baren\, musik i PM Bar och allmänt god stämning i hela huset.\nVälkomna hem!\n/Vännerna på PM
URL:https://pmrestauranger.se/event/hela-huset-skakar-homecoming-party-2/
LOCATION:PM & Vänner\, Västergatan 10\, Växjö\, 352 31\, Sverige
ATTACH;FMTTYPE=image/jpeg:https://pmrestauranger.se/wp-content/uploads/2025/08/evenemangskalender_Homecoming_Party.jpg
END:VEVENT
END:VCALENDAR