BEGIN:VCALENDAR
VERSION:2.0
PRODID:-//PM &amp; Vänner - ECPv6.3.6//NONSGML v1.0//EN
CALSCALE:GREGORIAN
METHOD:PUBLISH
X-ORIGINAL-URL:https://pmrestauranger.se
X-WR-CALDESC:Händelser för PM &amp; Vänner
REFRESH-INTERVAL;VALUE=DURATION:PT1H
X-Robots-Tag:noindex
X-PUBLISHED-TTL:PT1H
BEGIN:VTIMEZONE
TZID:Europe/Stockholm
BEGIN:DAYLIGHT
TZOFFSETFROM:+0100
TZOFFSETTO:+0200
TZNAME:CEST
DTSTART:20240331T010000
END:DAYLIGHT
BEGIN:STANDARD
TZOFFSETFROM:+0200
TZOFFSETTO:+0100
TZNAME:CET
DTSTART:20241027T010000
END:STANDARD
END:VTIMEZONE
BEGIN:VEVENT
DTSTART;VALUE=DATE:20241231
DTEND;VALUE=DATE:20250101
DTSTAMP:20260420T153925
CREATED:20241027T060600Z
LAST-MODIFIED:20241027T061436Z
UID:10001616-1735603200-1735689599@pmrestauranger.se
SUMMARY:NYÅR 2024 PÅ PM & VÄNNER
DESCRIPTION:Snart är det dags att säga adjö till året som varit och blicka framåt emot 2025. Enligt oss görs detta lämpligast på PM & Vänner Hotel. Nyårsfirandet har verkligen blivit en tradition hos oss och vi har sedan vårt första nyårsfirande 2014 sålt slut samtliga år. Nyårsdygnet hos PM & Vänner innehåller god mat och härliga viner. Vårt firande inleds med kanapéer och champagne vid 18:00. Därefter väntar en femrätters middag med ett vinpaket väl utvalt av våra sommelierer\, serverad i vår bistro & matsal. Efter middagen beger vi oss till vår takbar för att skåla in det nya året med Växjös bästa utsikt och kanske njuta av en drink framför brasan. \n\n\nDagen efter står vår berömda frukost redo att avnjutas innan det är dags att checka ut för denna gången. \n\n\nFör våra lite yngre gäster\, barn upp till 12 år erbjuder vi en mindre meny för 395 kr\n\nKlassisk toast skagen á la PM & Vänner\n\nPM:s hamburgare serveras i bröd från Bröd och Sovel med lagrad cheddarost\, ekologisk sallad från\nSolmarka Gård\, torrsaltad bacon\, inlagd lök\, saltgurka\, dijonemulsion samt husets pommes frîtes \nVårt konditoris chokladdessert med saltkola\, pekannötter och brownie \n\n\n\n\n\nVi erbjuder två olika paket för er som vill fira nyår hos oss\, ett med logi och ett utan. \n\n\nPaket 1\n– Femrättersmeny inklusive vinpaket\n– Ett glas Champagne vid ankomst till middagen\n– Kanapéer\n– Del i dubbelrum\, kategori Classic (För Executive-rum tillkommer 300 kr på priset nedan)\n– Trådlöst Wi-Fi\n– Tillgång till gym\, pooler och bastu\n– Vår prisbelönta frukost serverad på PM Bar \nPris: 3 595 kr per person \nI anslutning till bokning kan ni också välja att boka en extranatt den 30-31 december\noch / eller 1-2 januari för endast 1695 kr per rum och natt. \n\nBokning av paket 1 sker via vår reception som du når via e-mail på \nreservations@pmhotel.se eller på telefon 0470-75 97 00\n\n\n\n\nPaket 2\n– Femrättersmeny inklusive vinpaket\n– Ett glas Champagne vid ankomst till middagen\n– Kanapéer\nPris: 2 595 kr per person\n\nBokning av paket 2 sker genom att klicka här\n  \nVid bokning kommer vi be samtliga gäster om kortuppgifter. Avbokningar innan den 24 december debiteras med 10 % av bokningens värde. Efter den 24 december debiteras 100 % av bokningens värde. \nVarmt välkomna att fira in det nya året på PM & Vänner Hotel!
URL:https://pmrestauranger.se/event/nyar-2024-pa-pm-vanner/
LOCATION:PM & Vänner\, Västergatan 10\, Växjö\, 352 31\, Sverige
ATTACH;FMTTYPE=image/jpeg:https://pmrestauranger.se/wp-content/uploads/2024/10/Nyar.jpg
END:VEVENT
BEGIN:VEVENT
DTSTART;VALUE=DATE:20241231
DTEND;VALUE=DATE:20250101
DTSTAMP:20260420T153925
CREATED:20241128T062947Z
LAST-MODIFIED:20241128T063300Z
UID:10001620-1735603200-1735689599@pmrestauranger.se
SUMMARY:Nyårskassen 2024
DESCRIPTION:Till årets nyårsfirande erbjuder vi möjligheten att köpa med sig en festlig trerättersmeny hem.\nLite finlir återstår innan ni kan lägga maten på tallriken och ringa in det nya året men våra\nduktiga kockar har gjort allt det tidskrävande förarbetet. Medföljer gör även en tydlig beskrivning\nav hur ni fixar till det sista innan servering.  \nGott nytt år önskar PM & Vänner!  \nMenu: \n\n\n\n\n Råmarinerad pilgrimsmussla med havssallat från vår egen boj\, variation på ekologisk muscatpumpa\,marinerad savoykål\,\nsmörad hummerbuljong och friterad svensk quinoa  \n Örtstekt kalvryggbiff och grillad kalvhögrev\, serveras med luftig mandelpotatispuré smaksatt med purjolök\, karamelliserad endivedsallat och krispiga hasselnötter samt sauce blanquette med toppmurklor  \n Konditoriets havtornsdessert i glas med vit chokladbavaroise\, havtornsmousse\, havtornscurd\, mandelpraliné\nsamt mandelkrutonger med brynt smör  \n\n\n\n\n\n\n\n\n\n\n\n\n\n\n\n\n\n\n\n\n  \n\n\n\n\n\n\n\n\n\n\n\n\n\n\n\n\n\nPris: 649 kr per person  \n\n\n\n\n\n\n\n\nTyvärr har vi ingen möjlighet att tillgodose andra preferenser / allergier. \n\nVid beställning av vegetarisk menu vänligen ange det i fältet\neventuella allergier eller övriga önskemål vid beställning.\n\n\n\n\n\n\n\n\n\nBeställningen hämtas nyårsafton på Bröd & Sovelmellan 08.00-11.00. Vid beställning väljer ni önskatklockslag att hämta er/era kasse/kassar \nSista datum för att beställa årets nyårskasseär kl 23.59 den 24/12 2024 \nObservera att antalet kassar är begränsat\, först till kvarn gäller \nVid eventuella frågor vänligen kontakta vårt bageripå 0470-75 97 30 eller bageri@pmrestauranger.se \n\n\n\n\n\n\n\n\n\n\n\n\n\n\n\n\nBeställ vår nyårsmeny här\n\n\n\n\n\n\n\n\n\n\n\n\n\n\n\n\n\n\n\n\nP.S Glöm inte att ni också har möjligheten att förgylla julen med vackra blommor från\nFlora och godsaker från PM & Vänner Bröd & Sovel. Dessa tillval kan ni välja att addera i samband med beställning.
URL:https://pmrestauranger.se/event/nyarskassen-2024/
LOCATION:PM & Vänner\, Västergatan 10\, Växjö\, 352 31\, Sverige
ATTACH;FMTTYPE=image/jpeg:https://pmrestauranger.se/wp-content/uploads/2022/12/nyarssliders_evenemangskalendern.jpg
END:VEVENT
END:VCALENDAR