BEGIN:VCALENDAR
VERSION:2.0
PRODID:-//PM &amp; Vänner - ECPv6.3.6//NONSGML v1.0//EN
CALSCALE:GREGORIAN
METHOD:PUBLISH
X-ORIGINAL-URL:https://pmrestauranger.se
X-WR-CALDESC:Händelser för PM &amp; Vänner
REFRESH-INTERVAL;VALUE=DURATION:PT1H
X-Robots-Tag:noindex
X-PUBLISHED-TTL:PT1H
BEGIN:VTIMEZONE
TZID:Europe/Stockholm
BEGIN:DAYLIGHT
TZOFFSETFROM:+0100
TZOFFSETTO:+0200
TZNAME:CEST
DTSTART:20240331T010000
END:DAYLIGHT
BEGIN:STANDARD
TZOFFSETFROM:+0200
TZOFFSETTO:+0100
TZNAME:CET
DTSTART:20241027T010000
END:STANDARD
END:VTIMEZONE
BEGIN:VEVENT
DTSTART;TZID=Europe/Stockholm:20241215T120000
DTEND;TZID=Europe/Stockholm:20241215T210000
DTSTAMP:20260420T154016
CREATED:20241027T055018Z
LAST-MODIFIED:20241127T054259Z
UID:10001614-1734264000-1734296400@pmrestauranger.se
SUMMARY:JULEFROKOST
DESCRIPTION:PM & Vänner är sedan 2018 danskt konsulat – ett uppdrag vi är otroligt glada och stolta över. Därför känns det helt rätt att hylla den danska gastronomin med en meny inspirerad av vårt kära grannland. Under fyra söndagar har ni chansen att uppleva en traditionell julefrokost som består av sex serveringar och som serveras i vår bistro.\n\n\n\n  \n\n\n\nFöljande datum serverar vi julefrokost: 1\,8\,15\,22 december\n\n\n  \n\n\nMENU \n\n\n1:a servering:\nChristiansö sild\nHvide sild\nKarry sild\nLättkokt ägg\nPM:s gravlax med ”rævesovs” och dill\nBröd\, smör och krydderfett\n\n\n  \n\n\n\n2:a servering\nLun fiskefilet med remoulade och citron\n\n\n  \n\n\n\n3:a servering\nLun leverpostej med torrsaltat bacon\, stekt svamp och friterad persilja\n\n\n  \n\n\n\n4:e servering\nRibbensteg af gris med spröd svål och rosastekt andebryst med rödkål\, katrinplommon och rostad chériepotatis\n\n\n  \n\n\n\n5:e servering\nOstvagn med Stilton rört med portvin och goda ostar från Arla Unika\n\n\n  \n\n\n\n6:e servering\n\n\nRis à la Mande med lun körsbärsås från konditoriet\n\n\n\n  \n\n\nPris\n\nJulefrokost 695 kr \nJulefrukost inklusive PM:s danska glögg 745 kr \n\n\n\nBoka ert bord här \n\n\nVarmt välkomna till julen 2024 på PM & Vänner! \n  \nTyvärr har vi inte möjligheten att servera vår julefrokost vegansk eller vegetarisk \nBarn under 12 år äter för halva priset
URL:https://pmrestauranger.se/event/julefrokost/2024-12-15/
LOCATION:PM & Vänner\, Västergatan 10\, Växjö\, 352 31\, Sverige
ATTACH;FMTTYPE=image/jpeg:https://pmrestauranger.se/wp-content/uploads/2024/10/dansk_julefrukost_slider.jpg
END:VEVENT
END:VCALENDAR