BEGIN:VCALENDAR
VERSION:2.0
PRODID:-//PM &amp; Vänner - ECPv6.3.6//NONSGML v1.0//EN
CALSCALE:GREGORIAN
METHOD:PUBLISH
X-WR-CALNAME:PM &amp; Vänner
X-ORIGINAL-URL:https://pmrestauranger.se
X-WR-CALDESC:Händelser för PM &amp; Vänner
REFRESH-INTERVAL;VALUE=DURATION:PT1H
X-Robots-Tag:noindex
X-PUBLISHED-TTL:PT1H
BEGIN:VTIMEZONE
TZID:Europe/Stockholm
BEGIN:DAYLIGHT
TZOFFSETFROM:+0100
TZOFFSETTO:+0200
TZNAME:CEST
DTSTART:20240331T010000
END:DAYLIGHT
BEGIN:STANDARD
TZOFFSETFROM:+0200
TZOFFSETTO:+0100
TZNAME:CET
DTSTART:20241027T010000
END:STANDARD
END:VTIMEZONE
BEGIN:VEVENT
DTSTART;TZID=Europe/Stockholm:20241129T150000
DTEND;TZID=Europe/Stockholm:20241129T170000
DTSTAMP:20260420T153541
CREATED:20240416T112506Z
LAST-MODIFIED:20240428T114920Z
UID:10000842-1732892400-1732899600@pmrestauranger.se
SUMMARY:Ostron & Champagne
DESCRIPTION:Varje fredag mellan 15:00 och 17:00 erbjuder vi ostron för endast 25 kr/st och champagne för 119 kr/glas så långt lagret räcker. Självklart har vi också utmärkta alkoholfria alternativ för den som önskar. \nVälkomna att starta helgen på bästa sätt!
URL:https://pmrestauranger.se/event/ostron-champagne/2024-11-29/
ATTACH;FMTTYPE=image/jpeg:https://pmrestauranger.se/wp-content/uploads/2024/04/aw_slider.jpg
END:VEVENT
BEGIN:VEVENT
DTSTART;TZID=Europe/Stockholm:20241129T160000
DTEND;TZID=Europe/Stockholm:20241129T190000
DTSTAMP:20260420T153541
CREATED:20241017T195924Z
LAST-MODIFIED:20241017T195924Z
UID:10001611-1732896000-1732906800@pmrestauranger.se
SUMMARY:HELA HUSET SKAKAR - DANSK JUL
DESCRIPTION:Vi tjuvstartar julfirandet med tema ”Dansk jul” på denna månadens Hela Huset Skakar! \nVälkomna att njuta av danska godsaker (i både fast och flytande form) till specialpriser. Som vanligt blir det levande musik och strålande stämning\, den här gången med en dansk twist. Och precis som vanligt bakar Bröd & Sovel sin berömda pizza både för avhämtning och att njuta på plats. Beställningar sker på 75 97 30. Varmt välkomna!
URL:https://pmrestauranger.se/event/hela-huset-skakar-dansk-jul/
LOCATION:PM & Vänner\, Västergatan 10\, Växjö\, 352 31\, Sverige
ATTACH;FMTTYPE=image/jpeg:https://pmrestauranger.se/wp-content/uploads/2024/10/hela_huset_skakar_tema_dansk_jul_slider.jpg
END:VEVENT
END:VCALENDAR