BEGIN:VCALENDAR
VERSION:2.0
PRODID:-//PM &amp; Vänner - ECPv6.3.6//NONSGML v1.0//EN
CALSCALE:GREGORIAN
METHOD:PUBLISH
X-WR-CALNAME:PM &amp; Vänner
X-ORIGINAL-URL:https://pmrestauranger.se
X-WR-CALDESC:Händelser för PM &amp; Vänner
REFRESH-INTERVAL;VALUE=DURATION:PT1H
X-Robots-Tag:noindex
X-PUBLISHED-TTL:PT1H
BEGIN:VTIMEZONE
TZID:Europe/Stockholm
BEGIN:DAYLIGHT
TZOFFSETFROM:+0100
TZOFFSETTO:+0200
TZNAME:CEST
DTSTART:20240331T010000
END:DAYLIGHT
BEGIN:STANDARD
TZOFFSETFROM:+0200
TZOFFSETTO:+0100
TZNAME:CET
DTSTART:20241027T010000
END:STANDARD
END:VTIMEZONE
BEGIN:VEVENT
DTSTART;VALUE=DATE:20241125
DTEND;VALUE=DATE:20241126
DTSTAMP:20260420T153552
CREATED:20240916T073350Z
LAST-MODIFIED:20240916T073350Z
UID:10001606-1732492800-1732579199@pmrestauranger.se
SUMMARY:Julen 2024
DESCRIPTION:Från och med idag erbjuder vi PM & Vänner julmiddagar. Vi serverar en unik meny med vår prisbelönta mat med favoriterna från både julbordet och ett dignande gottebord samt med en härlig och julig inramning skapad av Flora och hela teamet på PM. \nVi är både stolta och glada att kunna presentera ett vassare och generösare upplägg än någonsin tidigare och med ett tydligt hållbarhetstänk i PM & Vänners Festvåningar med \nPM & Vänners julmiddag: 595 kr exklusive moms \nJulen känns kanske fortfarande något avlägsen men de populäraste datumen brukar bokas upp tidigt så vi uppmanar er alla att höra av er så snart som möjligt för att säkra ert favoritdatum. Vi finns redo via både telefon och mail för att hjälpa er med bokning och eventuella frågor. \nNi når oss på 0470-75 97 22 eller konferens@pmhotel.se \nLäs mer och se hela menyn på denna länk!
URL:https://pmrestauranger.se/event/julen-2024/
LOCATION:PM & Vänner\, Västergatan 10\, Växjö\, 352 31\, Sverige
ATTACH;FMTTYPE=image/jpeg:https://pmrestauranger.se/wp-content/uploads/2024/09/webbslider_evenemangskalender_julbord.jpg
END:VEVENT
END:VCALENDAR