BEGIN:VCALENDAR
VERSION:2.0
PRODID:-//PM &amp; Vänner - ECPv6.3.6//NONSGML v1.0//EN
CALSCALE:GREGORIAN
METHOD:PUBLISH
X-WR-CALNAME:PM &amp; Vänner
X-ORIGINAL-URL:https://pmrestauranger.se
X-WR-CALDESC:Händelser för PM &amp; Vänner
REFRESH-INTERVAL;VALUE=DURATION:PT1H
X-Robots-Tag:noindex
X-PUBLISHED-TTL:PT1H
BEGIN:VTIMEZONE
TZID:Europe/Stockholm
BEGIN:DAYLIGHT
TZOFFSETFROM:+0100
TZOFFSETTO:+0200
TZNAME:CEST
DTSTART:20240331T010000
END:DAYLIGHT
BEGIN:STANDARD
TZOFFSETFROM:+0200
TZOFFSETTO:+0100
TZNAME:CET
DTSTART:20241027T010000
END:STANDARD
END:VTIMEZONE
BEGIN:VEVENT
DTSTART;TZID=Europe/Stockholm:20241117T160000
DTEND;TZID=Europe/Stockholm:20241117T230000
DTSTAMP:20260420T094359
CREATED:20241017T195215Z
LAST-MODIFIED:20241017T195215Z
UID:10001610-1731859200-1731884400@pmrestauranger.se
SUMMARY:VINSÖNDAG PÅ PM & VÄNNER
DESCRIPTION:Välkommen till Vinsöndag på PM & Vänner\, ett nytt koncept för en underbar avslutning på helgen.\n\n\n\n\n\n\nPrecis som namnet antyder är dessa speciella söndagar helt fokuserade på att fira en värld av vin på ett unikt och personligt sätt. På våra utvalda söndagar går vi steget längre för att erbjuda än mer fantastisk upplevelse. \nVarje vinsöndag bjuder vi in en av våra väl utvalda importörer som får möjligheten att visa upp det absolut bästa i deras sortiment följt av ett exklusivt vinpaket för kvällens middag. Vi är glada att meddela vår premium-partner Terroir Vin är först ut den 17 november. \n\n\n\nKvällen inleds med en exklusiv vinprovning i vårt Atrium där ni får möjligheten att upptäcka våra personliga favoritproducenter. Därefter väntar en guidad tur i vår vinkällare\, för stunden hem till över 20 000 flaskor från hela världen. Som avslutning på kvällen sätter vi oss därefter och avnjuter en trerätters middag parad med vinpaket från Terroir Vin. \nTill detta event erbjuder vi två olika paket\, ett med övernattning och ett utan. Vänligen läs mer nedan. \nPaket 1\nVinprovning i Atrium\nGuidad visning i vår vinkällare\nTrerätters middag serverad i vår bistro\nVinpaket med tre glas\nShared double room\, Classic category\nWifi\nTillgång till gym\, pooler och bastu\nVår prisbelönta frukost serverad på PM Bar \nPris: 1 995 kr per person \nFör att boka paket 1 vänligen kontakta vår reception på reservations@pmhotel.se eller 0470-75 97 00. \nPaket 2\nVinprovning i Atrium\nGuidad visning i vår vinkällare\nTrerätters middag serverad i vår bistro\nVinpaket med tre glas \nPris: 1 195 kr per person \n\n\n\nFör att boka paket 2 vänligen klicka här: Boka vinsöndag 17 november \n\n  \nVarmt välkomna att uppleva vin när det är som bäst med vännerna på PM & Vänner
URL:https://pmrestauranger.se/event/vinsondag-pa-pm-vanner/
LOCATION:PM & Vänner\, Västergatan 10\, Växjö\, 352 31\, Sverige
ATTACH;FMTTYPE=image/jpeg:https://pmrestauranger.se/wp-content/uploads/2024/10/vinsondag_webbslider_evenemangskalender.jpg
END:VEVENT
END:VCALENDAR