BEGIN:VCALENDAR
VERSION:2.0
PRODID:-//PM &amp; Vänner - ECPv6.3.6//NONSGML v1.0//EN
CALSCALE:GREGORIAN
METHOD:PUBLISH
X-ORIGINAL-URL:https://pmrestauranger.se
X-WR-CALDESC:Händelser för PM &amp; Vänner
REFRESH-INTERVAL;VALUE=DURATION:PT1H
X-Robots-Tag:noindex
X-PUBLISHED-TTL:PT1H
BEGIN:VTIMEZONE
TZID:Europe/Stockholm
BEGIN:DAYLIGHT
TZOFFSETFROM:+0100
TZOFFSETTO:+0200
TZNAME:CEST
DTSTART:20240331T010000
END:DAYLIGHT
BEGIN:STANDARD
TZOFFSETFROM:+0200
TZOFFSETTO:+0100
TZNAME:CET
DTSTART:20241027T010000
END:STANDARD
END:VTIMEZONE
BEGIN:VEVENT
DTSTART;VALUE=DATE:20240919
DTEND;VALUE=DATE:20240921
DTSTAMP:20260419T212654
CREATED:20240831T062357Z
LAST-MODIFIED:20240918T081247Z
UID:10001605-1726704000-1726876799@pmrestauranger.se
SUMMARY:Svenska mästerskapen i Mathantverk 2024
DESCRIPTION:I vår region är intresset för mat stort\, mycket tack vare föregångare inom restaurangbranschen\, modiga producenter och årliga MAT. SM i Mathantverk kommer att avgöras i samband  MAT och ger ytterligare en dimension och nationell prägel till evenemanget. Tävlingen\, prisutdelningen och den officiella middagen sker hos oss på PM & Vänner. \nFörutom en spännande tävling är det också en möjlighet att ta del av intressanta produkter och stifta bekantskap med många mathantverksföretag. Det är också ett sätt att sprida kunskap om mathantverk och dess betydelse för en stark och tålig livsmedelsförsörjning i Sverige. \nTävlingen arrangeras av Eldrimner\, som är ett nationellt resurscentrum för mathantverk. Varje år deltar ungefär 500 bidrag inom ett femtiotal klasser. Läs mer om detaljerna och anmälan på www.eldrimner.com. \nVarmt välkomna!
URL:https://pmrestauranger.se/event/svenska-masterskapen-i-mathantverk-2024/
LOCATION:PM & Vänner\, Västergatan 10\, Växjö\, 352 31\, Sverige
ATTACH;FMTTYPE=image/jpeg:https://pmrestauranger.se/wp-content/uploads/2024/08/mathantverk_slider.jpg
END:VEVENT
BEGIN:VEVENT
DTSTART;TZID=Europe/Stockholm:20240920T150000
DTEND;TZID=Europe/Stockholm:20240920T170000
DTSTAMP:20260419T212654
CREATED:20240416T112506Z
LAST-MODIFIED:20240428T114920Z
UID:10000832-1726844400-1726851600@pmrestauranger.se
SUMMARY:Ostron & Champagne
DESCRIPTION:Varje fredag mellan 15:00 och 17:00 erbjuder vi ostron för endast 25 kr/st och champagne för 119 kr/glas så långt lagret räcker. Självklart har vi också utmärkta alkoholfria alternativ för den som önskar. \nVälkomna att starta helgen på bästa sätt!
URL:https://pmrestauranger.se/event/ostron-champagne/2024-09-20/
ATTACH;FMTTYPE=image/jpeg:https://pmrestauranger.se/wp-content/uploads/2024/04/aw_slider.jpg
END:VEVENT
END:VCALENDAR