BEGIN:VCALENDAR
VERSION:2.0
PRODID:-//PM &amp; Vänner - ECPv6.3.6//NONSGML v1.0//EN
CALSCALE:GREGORIAN
METHOD:PUBLISH
X-ORIGINAL-URL:https://pmrestauranger.se
X-WR-CALDESC:Händelser för PM &amp; Vänner
REFRESH-INTERVAL;VALUE=DURATION:PT1H
X-Robots-Tag:noindex
X-PUBLISHED-TTL:PT1H
BEGIN:VTIMEZONE
TZID:Europe/Stockholm
BEGIN:DAYLIGHT
TZOFFSETFROM:+0100
TZOFFSETTO:+0200
TZNAME:CEST
DTSTART:20240331T010000
END:DAYLIGHT
BEGIN:STANDARD
TZOFFSETFROM:+0200
TZOFFSETTO:+0100
TZNAME:CET
DTSTART:20241027T010000
END:STANDARD
END:VTIMEZONE
BEGIN:VEVENT
DTSTART;VALUE=DATE:20240620
DTEND;VALUE=DATE:20240621
DTSTAMP:20260421T022936
CREATED:20240527T063250Z
LAST-MODIFIED:20240527T064235Z
UID:10001088-1718841600-1718927999@pmrestauranger.se
SUMMARY:PM & Vänners Midsommarkasse
DESCRIPTION:Låt oss fixa både lunch och grillmiddag till årets midsommarfirande. Allt som återstår att klä midsommarstången\, tända grillen och njuta! Beställs senast den 13 juni och hämtas på Bröd & Sovel den 20 juni. \nMidsommarlunch \nNorrøna matjessill \nPM:s klassiska löksill \nHusets krämiga sill med stenbitsrom \nMorgans sill med citron och fläder \nVarmrökt lax från Lillängshamnens rökeri \nPM:s gravade lax och hovmästarsås \nEkologiskt ägg från Gårdsby med nyvispad majonnäs och handpillade räkor \nMidsommargrill \nKökets hemstoppade korv på karré\, lagrad ost och bacon från Vimmerby \nLångbakad högrev med rökt tomatglace \nRödtungafilé ”en papilotte” med kryddsmör på brynt smör\, citron och gräslök \nFärskpotatissallad med purjolök\, kapris\, rädisa och dill \nSallad på svensk tomat\, gurka och skånsk quinoa \nRostad broccoli med primörrödbeta samt vinbärssyltad lök och bladpersilja \nFärskostcrème smaksatt med nyskördade örter från vår trädgård \nEmulsion på vit sparris från Vätterns strand \nDessert \nKonditoriets rabarberdessert i glas serveras med rabarber-fläderkompott\, kesellamoussé\, rabarbergele samt crunch på krossade kakor \n  \n395 kr inklusive moms per person (beställs i kassar om två personer per kasse) \n\n\nSista dagen för att beställa är den 14 juni och upphämtning sker på Bröd & Sovel den 20 juni \n\nBeställ er kasse här! \nPS. Glöm inte att lägga till Bröd & Sovels berömda jordgubbstårta\, och mycket annat gott till er beställning. DS.
URL:https://pmrestauranger.se/event/pm-vanners-midsommarkasse/
LOCATION:PM & Vänner\, Västergatan 10\, Växjö\, 352 31\, Sverige
ATTACH;FMTTYPE=image/jpeg:https://pmrestauranger.se/wp-content/uploads/2024/05/midsommarkasse_slider.jpg
END:VEVENT
END:VCALENDAR