BEGIN:VCALENDAR
VERSION:2.0
PRODID:-//PM &amp; Vänner - ECPv6.3.6//NONSGML v1.0//EN
CALSCALE:GREGORIAN
METHOD:PUBLISH
X-ORIGINAL-URL:https://pmrestauranger.se
X-WR-CALDESC:Händelser för PM &amp; Vänner
REFRESH-INTERVAL;VALUE=DURATION:PT1H
X-Robots-Tag:noindex
X-PUBLISHED-TTL:PT1H
BEGIN:VTIMEZONE
TZID:Europe/Stockholm
BEGIN:DAYLIGHT
TZOFFSETFROM:+0100
TZOFFSETTO:+0200
TZNAME:CEST
DTSTART:20240331T010000
END:DAYLIGHT
BEGIN:STANDARD
TZOFFSETFROM:+0200
TZOFFSETTO:+0100
TZNAME:CET
DTSTART:20241027T010000
END:STANDARD
END:VTIMEZONE
BEGIN:VEVENT
DTSTART;TZID=Europe/Stockholm:20240524T160000
DTEND;TZID=Europe/Stockholm:20240524T190000
DTSTAMP:20260422T030327
CREATED:20240515T092400Z
LAST-MODIFIED:20240515T092400Z
UID:10001087-1716566400-1716577200@pmrestauranger.se
SUMMARY:Hela Huset Skakar - Tema Tapas & Siesta
DESCRIPTION:Varje lönefredag återkommer konceptet Hela Huset Skakar på PM & Vänner. Denna fredag är temat Tapas och Siesta vilket innebär specialpriser på tapas á la PM\, Sherry och Cava i hela huset. \nPå Bröd & Sovel serveras dessutom vår populära surdegspizza! Bäst avnjutas den på plats men det går även att plocka med den hem. Beställningar sker på 0470-75 97 30. \nVarmt välkomna!
URL:https://pmrestauranger.se/event/hela-huset-skakar-tema-tapas-siesta/
LOCATION:PM & Vänner\, Västergatan 10\, Växjö\, 352 31\, Sverige
ATTACH;FMTTYPE=image/jpeg:https://pmrestauranger.se/wp-content/uploads/2024/05/TAPAS_evenemangskalendern.jpg
END:VEVENT
END:VCALENDAR