BEGIN:VCALENDAR
VERSION:2.0
PRODID:-//PM &amp; Vänner - ECPv6.3.6//NONSGML v1.0//EN
CALSCALE:GREGORIAN
METHOD:PUBLISH
X-WR-CALNAME:PM &amp; Vänner
X-ORIGINAL-URL:https://pmrestauranger.se
X-WR-CALDESC:Händelser för PM &amp; Vänner
REFRESH-INTERVAL;VALUE=DURATION:PT1H
X-Robots-Tag:noindex
X-PUBLISHED-TTL:PT1H
BEGIN:VTIMEZONE
TZID:Europe/Stockholm
BEGIN:DAYLIGHT
TZOFFSETFROM:+0100
TZOFFSETTO:+0200
TZNAME:CEST
DTSTART:20240331T010000
END:DAYLIGHT
BEGIN:STANDARD
TZOFFSETFROM:+0200
TZOFFSETTO:+0100
TZNAME:CET
DTSTART:20241027T010000
END:STANDARD
END:VTIMEZONE
BEGIN:VEVENT
DTSTART;TZID=Europe/Stockholm:20240510T150000
DTEND;TZID=Europe/Stockholm:20240510T170000
DTSTAMP:20260421T224045
CREATED:20240416T112506Z
LAST-MODIFIED:20240428T114920Z
UID:10000813-1715353200-1715360400@pmrestauranger.se
SUMMARY:Ostron & Champagne
DESCRIPTION:Varje fredag mellan 15:00 och 17:00 erbjuder vi ostron för endast 25 kr/st och champagne för 119 kr/glas så långt lagret räcker. Självklart har vi också utmärkta alkoholfria alternativ för den som önskar. \nVälkomna att starta helgen på bästa sätt!
URL:https://pmrestauranger.se/event/ostron-champagne/2024-05-10/
ATTACH;FMTTYPE=image/jpeg:https://pmrestauranger.se/wp-content/uploads/2024/04/aw_slider.jpg
END:VEVENT
BEGIN:VEVENT
DTSTART;TZID=Europe/Stockholm:20240510T160000
DTEND;TZID=Europe/Stockholm:20240510T190000
DTSTAMP:20260421T224045
CREATED:20240507T042002Z
LAST-MODIFIED:20240507T042208Z
UID:10001078-1715356800-1715367600@pmrestauranger.se
SUMMARY:AW med Klackabackens bryggeri
DESCRIPTION:Välkomna till en AW tillsammans med bryggarna bakom Klackabackens bryggeri.\n\nKlackabackens Bryggeri förenar kreativitet med traditionellt kunnande. Resultatet? Klassiskt med en twist. För oss betyder det klassiska öl för dig som just har upptäckt smakrikedomen i hantverksöl och med en twist för dig som kräver det där extra.Mellan 16:00 och 19:00 välkomna vi alla ölfantaster men även dig som helt novis och bara vill prova unik öl från Skåne.\n\nKlackabacken har med sig några av sina signatur öl och vårt köksteam har komponerat ett antal passande tapas med inspiration från Småland och Skåne.\n\nHjärtligt välkomna\, ingen bokning krävs.
URL:https://pmrestauranger.se/event/aw-med-klackabackens-bryggeri/
ATTACH;FMTTYPE=image/png:https://pmrestauranger.se/wp-content/uploads/2024/05/KB.png
END:VEVENT
END:VCALENDAR