BEGIN:VCALENDAR
VERSION:2.0
PRODID:-//PM &amp; Vänner - ECPv6.3.6//NONSGML v1.0//EN
CALSCALE:GREGORIAN
METHOD:PUBLISH
X-WR-CALNAME:PM &amp; Vänner
X-ORIGINAL-URL:https://pmrestauranger.se
X-WR-CALDESC:Händelser för PM &amp; Vänner
REFRESH-INTERVAL;VALUE=DURATION:PT1H
X-Robots-Tag:noindex
X-PUBLISHED-TTL:PT1H
BEGIN:VTIMEZONE
TZID:Europe/Stockholm
BEGIN:DAYLIGHT
TZOFFSETFROM:+0100
TZOFFSETTO:+0200
TZNAME:CEST
DTSTART:20240331T010000
END:DAYLIGHT
BEGIN:STANDARD
TZOFFSETFROM:+0200
TZOFFSETTO:+0100
TZNAME:CET
DTSTART:20241027T010000
END:STANDARD
END:VTIMEZONE
BEGIN:VEVENT
DTSTART;TZID=Europe/Stockholm:20240504T180000
DTEND;TZID=Europe/Stockholm:20240504T220000
DTSTAMP:20260421T195547
CREATED:20240416T113237Z
LAST-MODIFIED:20240416T113349Z
UID:10001071-1714845600-1714860000@pmrestauranger.se
SUMMARY:Gästspel med Karin Fransson
DESCRIPTION:Lördagen den 4 maj välkomnar vi Karin Fransson tillbaka till PM & Vänner.\nDen svenska kockikonen bjuder på sina signaturrätter i en femrätters meny speciellt\nframtagen för PM & Vänner. Till menyn serveras ett unikt vinpaket med viner utvalda av Owe Fransson. \nKarin är en av Sveriges bästa kockar genom tiderna och tillsammans med sin man\nOwe Fransson drev hon Hotell Borgholm under många år och utvecklade såväl restaurang och\nhotell som en givet resmål för den gastronomiskt intresserade. Deras hårda arbete ledde fram\ndem till en stjärna i Guide Michelin innan de för några år sedan lämnade facklan vidare. \nAtt Karin nu återigen kommer till PM & Vänner för att komponera en riktig festmåltid gör oss mer än\nlyckliga och vi hoppas att du som gäst vill dela denna speciella kväll med oss. Middagen sker\nden 4 maj och serveras i vår privata festvåning med start klockan 18.00. \nMENU \nÖländsk gazpacho\, fläderkomprimerad gurka och laxtartar på krispigt skinn \nBruschetta-stekt gös\, kryddig tomatkompott\, smörslungad grön sparris\, parmesan och vit tomat-burre blanc \nRosmarinstekt lammsadel och lökglaserad lammnacke med toppmurkla\, säsongens späda spetskål\, och ramslök samt potatispuré med getost\, brynt smör och hasselnötter \nKylt fruktigt champagneskum \nKarins lilla fyllekaka med rosenpelagon\, bakad rabarber\, jordgubbar\, basilika- och ängsyrasorbet samt vit chokladganache \nPaket 1 – Går endast att boka via vår reception\n– Femrätters signaturmeny med tillhörande vinpaket\n– Del i dubbelrum\, kategori Classic\n– Trådlöst Wi-Fi\n– Tillgång till gym\, pooler och bastu\n– Vår prisbelönta frukost serverad på PM Bar \nPris: 3 495 kr per person \nFör att komma i kontakt med vår reception\, maila till\nreservations@pmhotel.se eller ring 0470-75 97 00 \n__________________________________ \nPaket 2 – Går endast att boka online på länken nedan\n– Femrätters signaturmeny med tillhörande vinpaket \nPris: 2 495 kr per person \nBokning av paket 2 sker via genom att klicka här \n\n  \n\n\nVänligen notera vi ej kan tillgodose önskemål om vegansk eller mjölkproteinfri meny\noch att det är ert ansvar som gäst att meddela oss eventuella allergier eller kostpreferenser.\nAnmälan om specialkost måste vara oss tillhanda via reservations@pmhotel.se\nsenast 48 timmar innan ankomst för att vi ska kunna garantera ert önskemål. \nVi tar full betalning vid bokning. Avbokningar senare än 7 dagar innan ankomst debiteras med fullt pris.\nAvbokningar tidigare debiteras med 10 % av bokningens totala värde. \nVarmt välkomna till en oförglömlig upplevelse på PM & Vänner Hotel!
URL:https://pmrestauranger.se/event/gastspel-med-karin-fransson/
LOCATION:PM & Vänner\, Västergatan 10\, Växjö\, 352 31\, Sverige
ATTACH;FMTTYPE=image/jpeg:https://pmrestauranger.se/wp-content/uploads/2024/04/gastspel_med_karin_fransson_slider.jpg
END:VEVENT
END:VCALENDAR